BEGIN:VCALENDAR
VERSION:2.0
PRODID:-//ChamberMaster//Event Calendar 2.0//EN
METHOD:PUBLISH
X-PUBLISHED-TTL:P3D
REFRESH-INTERVAL:P3D
CALSCALE:GREGORIAN
BEGIN:VEVENT
DTSTART:20071201T200000Z
DTEND:20071201T200000Z
X-MICROSOFT-CDO-ALLDAYEVENT:FALSE
SUMMARY:FRG Tree Lighting
DESCRIPTION:Come greet Santa as he makes his way to the Tree Lighting in Fox River Grove.   Enjoy a wagon ride\, listen to music\, make an ornament\, snack on cookies and hot chocolate while waiting for your visit and photo with Santa Claus.
X-ALT-DESC;FMTTYPE=text/html:<div>Come greet Santa as he makes his way to the Tree Lighting in Fox River Grove.&nbsp\;&nbsp\; Enjoy a wagon ride\, listen to music\, make an ornament\, snack on cookies and hot chocolate while waiting for your visit and photo with Santa Claus.</div>
LOCATION:New Hope Church\, 400 Lincoln Avenue\, Fox River Grove
UID:e.138.142
SEQUENCE:3
DTSTAMP:20260425T221306Z
URL:https://business.carygrovechamber.com/events/details/frg-tree-lighting-12-01-2007-142
END:VEVENT

END:VCALENDAR
