BEGIN:VCALENDAR
VERSION:2.0
PRODID:-//ChamberMaster//Event Calendar 2.0//EN
METHOD:PUBLISH
X-PUBLISHED-TTL:P3D
REFRESH-INTERVAL:P3D
CALSCALE:GREGORIAN
BEGIN:VEVENT
DTSTART;VALUE=DATE:20080816
DTEND;VALUE=DATE:20080818
TRANSP:TRANSPARENT
X-MICROSOFT-CDO-ALLDAYEVENT:TRUE
SUMMARY:Frontier Pond Hosts Pond Tour
DESCRIPTION:Frontier Ponds Host Pond Tour\nCome out to Frontier Ponds on August 16 & 17 and check out their new extreme waterfalls from 9 a.m. to 5 p.m.  On Saturday\, August 16 from 4 to 8 p.m. there will be a BBQ and bonfire at the owners of Frontier Ponds house\, located at 5218 N. Union Road in Union.  For more details\, call (815) 923-2480 or visit www.frontierponds.com.
X-ALT-DESC;FMTTYPE=text/html:<p class="MsoNormal" style="margin: 0in 0in 0pt\; line-height: 14.4pt\; text-align: left" align="left"><span class="Heading1Char"><span style="font-size: 12pt\; font-family: Arial\; mso-bidi-font-family: 'Times New Roman'"><strong>Frontier Ponds Host Pond Tour<br /></strong></span></span><span style="font-size: 11pt\; color: black\; font-family: Arial\; mso-bidi-font-size: 12.0pt\; mso-bidi-font-family: 'Times New Roman'\; mso-font-kerning: 0pt">Come out to Frontier Ponds on August 16 &amp\; 17&nbsp\;and check out their new extreme waterfalls from </span><st1:time hour="9" minute="0"><span style="font-size: 11pt\; color: black\; font-family: Arial\; mso-bidi-font-size: 12.0pt\; mso-bidi-font-family: 'Times New Roman'\; mso-font-kerning: 0pt">9 a.m.</span></st1:time><span style="font-size: 11pt\; color: black\; font-family: Arial\; mso-bidi-font-size: 12.0pt\; mso-bidi-font-family: 'Times New Roman'\; mso-font-kerning: 0pt"> to </span><st1:time hour="17" minute="0"><span style="font-size: 11pt\; color: black\; font-family: Arial\; mso-bidi-font-size: 12.0pt\; mso-bidi-font-family: 'Times New Roman'\; mso-font-kerning: 0pt">5 p.m.</span></st1:time><span style="font-size: 11pt\; color: black\; font-family: Arial\; mso-bidi-font-size: 12.0pt\; mso-bidi-font-family: 'Times New Roman'\; mso-font-kerning: 0pt"><span style="mso-spacerun: yes">&nbsp\; </span>On Saturday\, August 16 from </span><st1:time hour="16" minute="0"><span style="font-size: 11pt\; color: black\; font-family: Arial\; mso-bidi-font-size: 12.0pt\; mso-bidi-font-family: 'Times New Roman'\; mso-font-kerning: 0pt">4</span></st1:time><span style="font-size: 11pt\; color: black\; font-family: Arial\; mso-bidi-font-size: 12.0pt\; mso-bidi-font-family: 'Times New Roman'\; mso-font-kerning: 0pt"> to </span><st1:time hour="20" minute="0"><span style="font-size: 11pt\; color: black\; font-family: Arial\; mso-bidi-font-size: 12.0pt\; mso-bidi-font-family: 'Times New Roman'\; mso-font-kerning: 0pt">8 p.m.</span></st1:time><span style="font-size: 11pt\; color: black\; font-family: Arial\; mso-bidi-font-size: 12.0pt\; mso-bidi-font-family: 'Times New Roman'\; mso-font-kerning: 0pt"> there will be a BBQ and bonfire at the owners of Frontier Ponds house\, located at </span><st1:street><st1:address><span style="font-size: 11pt\; color: black\; font-family: Arial\; mso-bidi-font-size: 12.0pt\; mso-bidi-font-family: 'Times New Roman'\; mso-font-kerning: 0pt">5218 N. Union Road</span></st1:address></st1:street><span style="font-size: 11pt\; color: black\; font-family: Arial\; mso-bidi-font-size: 12.0pt\; mso-bidi-font-family: 'Times New Roman'\; mso-font-kerning: 0pt"> in </span><st1:place><span style="font-size: 11pt\; color: black\; font-family: Arial\; mso-bidi-font-size: 12.0pt\; mso-bidi-font-family: 'Times New Roman'\; mso-font-kerning: 0pt">Union</span></st1:place><span style="font-size: 11pt\; color: black\; font-family: Arial\; mso-bidi-font-size: 12.0pt\; mso-bidi-font-family: 'Times New Roman'\; mso-font-kerning: 0pt">.<span style="mso-spacerun: yes">&nbsp\; </span>For more details\, call (815) 923-2480 or visit www.frontierponds.com.<br style="mso-special-character: line-break" /><br style="mso-special-character: line-break" /></span><span style="mso-font-kerning: 0pt"><o:p></o:p></span></p>
LOCATION:Frontier Ponds5218 N. Union Road Union\, IL
UID:e.138.302
SEQUENCE:3
DTSTAMP:20260425T105147Z
URL:https://business.carygrovechamber.com/events/details/frontier-pond-hosts-pond-tour-08-16-2008-302
END:VEVENT

END:VCALENDAR
