BEGIN:VCALENDAR
VERSION:2.0
PRODID:-//ChamberMaster//Event Calendar 2.0//EN
METHOD:PUBLISH
X-PUBLISHED-TTL:P3D
REFRESH-INTERVAL:P3D
CALSCALE:GREGORIAN
BEGIN:VEVENT
DTSTART;VALUE=DATE:20091214
DTEND;VALUE=DATE:20091215
TRANSP:TRANSPARENT
X-MICROSOFT-CDO-ALLDAYEVENT:TRUE
SUMMARY:Fundraiser at Jimmy John's FRG for FRG PTO
DESCRIPTION:Stop in Jimmy John's Fox River Grove on Monday\, December 14 and help support the Fox River Grove PTO.   Jimmy John's will donate 30% of today's profit to the FRG PTO.  Just mention FRG PTO when you order!  Support the PTO and enjoy the "World's Greatest Gourmet Sandwiches!"  Jimmy John's is located at 908 Northwest Hwy. in Fox River Grove.  They can be reached at (847) 516-9866.
X-ALT-DESC;FMTTYPE=text/html:<div><p class="MsoNormal" style="line-height: 14.4pt\; margin: 0in 0in 0pt"><span style="font-family: Arial\; color: black\; font-size: 11pt\; mso-bidi-font-size: 12.0pt\; mso-bidi-font-family: 'Times New Roman'\; mso-font-kerning: 1.0pt"><b style="mso-bidi-font-weight: normal">Stop in</b><b style="mso-bidi-font-weight: normal"> Jimmy John&rsquo\;s Fox River Grove</b>&nbsp\;on&nbsp\;Monday\,&nbsp\;</span><st1:personname><span style="font-family: Arial\; color: black\; font-size: 11pt\; mso-bidi-font-size: 12.0pt\; mso-bidi-font-family: 'Times New Roman'\; mso-font-kerning: 1.0pt">Dec</span></st1:personname><span style="font-family: Arial\; color: black\; font-size: 11pt\; mso-bidi-font-size: 12.0pt\; mso-bidi-font-family: 'Times New Roman'\; mso-font-kerning: 1.0pt">ember 14 and help support the Fox River Grove PTO.<span style="mso-spacerun: yes">&nbsp\; </span><span style="mso-spacerun: yes">&nbsp\;</span>Jimmy John&rsquo\;s will donate 30% of today&rsquo\;s profit to the </span><st1:stockticker><span style="font-family: Arial\; color: black\; font-size: 11pt\; mso-bidi-font-size: 12.0pt\; mso-bidi-font-family: 'Times New Roman'\; mso-font-kerning: 1.0pt">FRG</span></st1:stockticker><span style="font-family: Arial\; color: black\; font-size: 11pt\; mso-bidi-font-size: 12.0pt\; mso-bidi-font-family: 'Times New Roman'\; mso-font-kerning: 1.0pt"> PTO.<span style="mso-spacerun: yes">&nbsp\; </span>Just mention </span><st1:stockticker><span style="font-family: Arial\; color: black\; font-size: 11pt\; mso-bidi-font-size: 12.0pt\; mso-bidi-font-family: 'Times New Roman'\; mso-font-kerning: 1.0pt">FRG</span></st1:stockticker><span style="font-family: Arial\; color: black\; font-size: 11pt\; mso-bidi-font-size: 12.0pt\; mso-bidi-font-family: 'Times New Roman'\; mso-font-kerning: 1.0pt"> PTO when you order!<span style="mso-spacerun: yes">&nbsp\; </span>Support the PTO and enjoy the &ldquo\;World&rsquo\;s Greatest Gourmet Sandwiches!&rdquo\;<span style="mso-spacerun: yes">&nbsp\; </span>Jimmy John&rsquo\;s is located at </span><st1:street><st1:address><span style="font-family: Arial\; color: black\; font-size: 11pt\; mso-bidi-font-size: 12.0pt\; mso-bidi-font-family: 'Times New Roman'\; mso-font-kerning: 1.0pt">908 Northwest Hwy.</span></st1:address></st1:street><span style="font-family: Arial\; color: black\; font-size: 11pt\; mso-bidi-font-size: 12.0pt\; mso-bidi-font-family: 'Times New Roman'\; mso-font-kerning: 1.0pt"> in Fox River Grove.<span style="mso-spacerun: yes">&nbsp\; </span>They can be reached at (847) 516-9866.<span style="mso-spacerun: yes">&nbsp\; </span><o:p></o:p></span></p></div>
LOCATION:908 Northwest Hwy. in Fox River Grove
UID:e.138.675
SEQUENCE:3
DTSTAMP:20260424T125325Z
URL:https://business.carygrovechamber.com/events/details/fundraiser-at-jimmy-john-s-frg-for-frg-pto-12-14-2009-675
END:VEVENT

END:VCALENDAR
