BEGIN:VCALENDAR
VERSION:2.0
PRODID:-//ChamberMaster//Event Calendar 2.0//EN
METHOD:PUBLISH
X-PUBLISHED-TTL:P3D
REFRESH-INTERVAL:P3D
CALSCALE:GREGORIAN
BEGIN:VEVENT
DTSTART:20090620T193000Z
DTEND:20090621T000000Z
X-MICROSOFT-CDO-ALLDAYEVENT:FALSE
SUMMARY:Garden Walk
DESCRIPTION:Garden WalkJune 20   Four stunning gardens located in Cary\, Fox River Grove and Crystal Lake have been selected for this year's annual Garden Walk event\, scheduled for Saturday\, June 20 from 2:30  to 7 p.m. The event is the largest fundraiser of the year for the Cary Grove Area Chamber of Commerce Scholarship Fund.  This year's tour features the homes of Ken and Sylvia Weger of Crystal Lake\, Debi and Paul Tarpinian of Cary\, Cindy and Tom Cramer of Fox River Grove and Steve and Chris English of Crystal Lake. The Garden Walk is the Chamber's most successful fundraising event for the Scholarship Fund and generally sells out each year. Tickets are $70 per person and include the tour of four area gardens\, a progressive meal and wine tasting at each home. The price includes the wine tasting\, hors d'oeuvres\, dinner and bus transportation to each garden. Seating is limited\, so call the Chamber office at (847) 639-2800 to reserve your spot. The Garden Walk Committee consists of Dorothy Miller of Lake Julian Trout Farm\, Neelie Kruse of Cary Travel Express\, Christine Counley of McHenry County Living Magazine\, Wendy Franz of R & W Construction Custom Home Remodeling\, Patsy Frits of Realty Executives on the Move\, and Kathie McLaughlin of American National Insurance   McLaughlin Agency. Top sponsors of the event include the Northwest Herald\, Sage Products\, Inc. and Algonquin Township Last year the Cary Grove Chamber awarded three business scholarships to area high school students. The award\, totaling $3\,000 is an investment in our area's youth and the future of our business community. The scholarships are intended to encourage local students to pursue college interests that might impact area business. Last year's scholarship award winners were local students Amanda Listak\, Ryan Seiter and Sarah Pettigrew. For information on scholarship winners throughout the years\, visit the Chamber web site at www.carygrovechamber.com. The Garden Walk will continue rain or shine.
X-ALT-DESC;FMTTYPE=text/html:<h1 class="MsoNormal" style="margin: 0in 0in 0pt">Garden Walk</h1><h1 class="MsoNormal" style="margin: 0in 0in 0pt">June 20&nbsp\;&nbsp\;</h1><div><div style="margin: 0in 0in 0pt"><font size="3">&nbsp\;</font></div><div style="margin: 0in 0in 0pt"><font size="3">Four stunning gardens located in Cary\, Fox River Grove and Crystal Lake have been selected for this year&rsquo\;s annual Garden Walk event\, scheduled for Saturday\, June 20 from 2:30 &nbsp\;to 7 p.m.&nbsp\;The event is the largest fundraiser of the year for the Cary Grove Area Chamber of Commerce Scholarship Fund. </font></div><div style="margin: 0in 0in 0pt"><font size="3">&nbsp\;</font></div><div style="margin: 0in 0in 0pt"><font size="3">This year&rsquo\;s tour features the homes of Ken and Sylvia Weger of Crystal Lake\, Debi and Paul Tarpinian of Cary\, Cindy and Tom Cramer of Fox River Grove and Steve and Chris English of Crystal Lake.</font></div><div style="margin: 0in 0in 0pt"><font size="3">&nbsp\;</font></div><div style="margin: 0in 0in 0pt"><font size="3">The Garden Walk is the Chamber&rsquo\;s most successful fundraising event for the Scholarship Fund and generally sells out each year.&nbsp\;Tickets are $70 per person and include the tour of four area gardens\, a progressive meal and wine tasting at each home.&nbsp\;The price includes the wine tasting\, hors d&rsquo\;oeuvres\, dinner and bus transportation to each garden.&nbsp\;Seating is limited\, so call the Chamber office at (847) 639-2800 to reserve your spot.</font></div><div style="margin: 0in 0in 0pt"><font size="3">&nbsp\;</font></div><div style="margin: 0in 0in 0pt"><font size="3">The Garden Walk Committee consists of <strong>Dorothy Miller</strong> of <strong>Lake Julian Trout Farm</strong>\, <strong>Neelie Kruse of Cary Travel Express</strong>\, <strong>Christine Counley of McHenry County Living Magazine\, Wendy Franz of R &amp\; W Construction Custom Home Remodeling\, Patsy Frits of Realty Executives on the Move\, and Kathie McLaughlin of American National Insurance &ndash\; McLaughlin Agency.&nbsp\;Top sponsors of the event include the Northwest Herald\, Sage Products\, Inc. and Algonquin Township</strong></font></div><div style="margin: 0in 0in 0pt"><strong><font size="3">&nbsp\;</font></strong></div><div style="margin: 0in 0in 0pt"><font size="3">Last year the Cary Grove Chamber awarded three business scholarships to area high school students.&nbsp\;The award\, totaling $3\,000 is an investment in our area&rsquo\;s youth and the future of our business community.&nbsp\;The scholarships are intended to encourage local students to pursue college interests that might impact area business.</font></div><div style="margin: 0in 0in 0pt"><font size="3">&nbsp\;</font></div><div style="margin: 0in 0in 0pt"><font size="3">Last year&rsquo\;s scholarship award winners were local students Amanda Listak\, Ryan Seiter and Sarah Pettigrew.&nbsp\;For information on scholarship winners throughout the years\, visit the Chamber web site at www.carygrovechamber.com.</font></div><font face="Times New Roman"><p class="MsoNormal" style="margin: 0in 0in 0pt"><font size="3">&nbsp\;</font></p><p class="MsoNormal" style="margin: 0in 0in 0pt"><strong><font size="3">The Garden Walk will continue rain or shine.</font></strong></p><p class="MsoNormal" style="margin: 0in 0in 0pt"><font size="3">&nbsp\;</font></p><p class="MsoNormal" style="margin: 0in 0in 0pt"><o:p><font face="Times New Roman" size="3">&nbsp\;</font></o:p></p><p><font size="3">&nbsp\;</font></p></font></div>
LOCATION:
UID:e.138.434
SEQUENCE:3
DTSTAMP:20260424T191728Z
URL:https://business.carygrovechamber.com/events/details/garden-walk-06-20-2009-434
END:VEVENT

END:VCALENDAR
