BEGIN:VCALENDAR
VERSION:2.0
PRODID:-//ChamberMaster//Event Calendar 2.0//EN
METHOD:PUBLISH
X-PUBLISHED-TTL:P3D
REFRESH-INTERVAL:P3D
CALSCALE:GREGORIAN
BEGIN:VEVENT
DTSTART:20080621T193000Z
DTEND:20080622T000000Z
X-MICROSOFT-CDO-ALLDAYEVENT:FALSE
SUMMARY:Garden Walk
DESCRIPTION:Garden Walk Four stunning gardens located in Cary\, Fox River Grove and Crystal Lake have been selected for this year's annual Garden Walk event\, scheduled for Saturday\, June 21 from 2:30  to 7 p.m.  The event is the largest fundraiser of the year for the Cary Grove Area Chamber of Commerce Scholarship Fund. This year's featured homes will include the homes of Gerald and Patricia Menzel and Frank and Judy Ganser of Fox River Grove\, the home of Dave and Andi Miller of Cary and the home of Bob and Karen Grassly\, owner of Stonewood Design Group Inc.\, a landscape designer and horticulturist in Crystal Lake. The Garden Walk is the Chamber's most successful fundraising event for the Scholarship Fund and generally sells out each year.  Tickets are $70 per person and include the tour of four area gardens\, and a progressive meal and wine tasting at each home.  The price includes the wine tasting\, hors d'oeuvres\, dinner and bus transportation to each garden.  Seating is limited\, so call the Chamber office at (847) 639-2800 to reserve your spot. The Garden Walk Committee consists of Dorothy Miller of Lake Julian Trout Farm\,  Neelie Kruse of Cary Travel Express\, Christine Counley of Tastefully Simple\,  Wendy Franz of R & W Construction Custom Home Remodeling\, Cathy Olson of Herbalife\, Patsy Frits of Realty Executives on the Move\, and Kathie McLaughlin of American National Insurance   McLaughlin Agency.  Top sponsors of the event include the Northwest Herald\, Sage Products\, Inc.  and Algonquin Township  The Garden Walk will continue rain or shine.
X-ALT-DESC;FMTTYPE=text/html:<div><font face="Times New Roman" size="3"><p class="MsoNormal" style="margin: 0in 0in 0pt"><font size="5">Garden Walk</font></p><p class="MsoNormal" style="margin: 0in 0in 0pt">&nbsp\;</p><p class="MsoNormal" style="margin: 0in 0in 0pt"><font size="2">Four stunning gardens located in Cary\, Fox River Grove and Crystal Lake have been selected for this year&rsquo\;s annual Garden Walk event\, scheduled for Saturday\, June 21 from 2:30 <span style="mso-spacerun: yes">&nbsp\;</span>to 7 p.m.<span style="mso-spacerun: yes">&nbsp\; </span>The event is the largest fundraiser of the year for the Cary Grove Area Chamber of Commerce Scholarship Fund.</font></p><p class="MsoNormal" style="margin: 0in 0in 0pt"><o:p><font size="2">&nbsp\;</font></o:p></p><p class="MsoNormal" style="margin: 0in 0in 0pt"><font size="2">This year&rsquo\;s featured homes will include the homes of Gerald and Patricia Menzel and Frank and Judy Ganser of Fox River Grove\, the home of Dave and Andi Miller of Cary and the home of Bob and Karen Grassly\, owner of Stonewood Design Group Inc.\, a landscape designer and horticulturist in Crystal Lake.</font></p><p class="MsoNormal" style="margin: 0in 0in 0pt"><o:p><font size="2">&nbsp\;</font></o:p></p><p class="MsoNormal" style="margin: 0in 0in 0pt"><font size="2">The Garden Walk is the Chamber&rsquo\;s most successful fundraising event for the Scholarship Fund and generally sells out each year.<span style="mso-spacerun: yes">&nbsp\; </span>Tickets are $70 per person and include the tour of four area gardens\, and a progressive meal and wine tasting at each home.<span style="mso-spacerun: yes">&nbsp\; </span>The price includes the wine tasting\, hors d&rsquo\;oeuvres\, dinner and bus transportation to each garden.<span style="mso-spacerun: yes">&nbsp\; </span>Seating is limited\, so call the Chamber office at (847) 639-2800 to reserve your spot.</font></p><p class="MsoNormal" style="margin: 0in 0in 0pt"><o:p><font size="2">&nbsp\;</font></o:p></p><p class="MsoNormal" style="margin: 0in 0in 0pt"><font size="2">The Garden Walk Committee consists of <strong style="mso-bidi-font-weight: normal">Dorothy Miller</strong> of <strong style="mso-bidi-font-weight: normal">Lake Julian Trout Farm</strong>\,<span style="mso-spacerun: yes">&nbsp\; </span><strong style="mso-bidi-font-weight: normal">Neelie Kruse of <st1:city w:st="on"><st1:place w:st="on">Cary</st1:place></st1:city> Travel Express</strong>\, <strong style="mso-bidi-font-weight: normal">Christine Counley of Tastefully Simple\, <span style="mso-spacerun: yes">&nbsp\;</span>Wendy Franz of R &amp\; W Construction Custom Home Remodeling\, Cathy Olson of Herbalife\, Patsy Frits of Realty Executives on the Move\, and Kathie McLaughlin of American National Insurance &ndash\; McLaughlin Agency.<span style="mso-spacerun: yes">&nbsp\; </span>Top sponsors of the event include the Northwest Herald\, Sage Products\, Inc. <span style="mso-spacerun: yes">&nbsp\;</span>and <st1:place w:st="on"><st1:placename w:st="on">Algonquin</st1:placename> <st1:placetype w:st="on">Township</st1:placetype></st1:place></strong></font></p><p class="MsoNormal" style="margin: 0in 0in 0pt"><font size="2">&nbsp\;</font></p><font face="Times New Roman" size="3"><p class="MsoNormal" style="margin: 0in 0in 0pt"><font size="2">&nbsp\;</font></p><p class="MsoNormal" style="margin: 0in 0in 0pt"><strong><font size="2">The Garden Walk will continue rain or shine.</font></strong></p><p class="MsoNormal" style="margin: 0in 0in 0pt">&nbsp\;</p><p class="MsoNormal" style="margin: 0in 0in 0pt"><o:p><font face="Times New Roman" size="2">&nbsp\;</font></o:p></p><p>&nbsp\;</p></font></font></div>
LOCATION:
UID:e.138.222
SEQUENCE:3
DTSTAMP:20260425T121828Z
URL:https://business.carygrovechamber.com/events/details/garden-walk-06-21-2008-222
END:VEVENT

END:VCALENDAR
