BEGIN:VCALENDAR
VERSION:2.0
PRODID:-//ChamberMaster//Event Calendar 2.0//EN
METHOD:PUBLISH
X-PUBLISHED-TTL:P3D
REFRESH-INTERVAL:P3D
CALSCALE:GREGORIAN
BEGIN:VEVENT
DTSTART:20100717T193000Z
DTEND:20100718T000000Z
X-MICROSOFT-CDO-ALLDAYEVENT:FALSE
SUMMARY:Garden Walk
DESCRIPTION:The Chamber's Annual Garden Walk is scheduled for Saturday\, July 17 from 2:30 to 7:00 p.m.  The event includes a tour of four area gardens\, and a progressive meal and wine tasting.  Tickets are $70 per person and include the wine tasting\, hors d'oeuvres\, dinner and transportation to each home.  Seating is limited\, so call the Chamber office at (847) 639-2800 to reserve your spot.    The Garden Walk will continue rain or shine. The Garden Walk is the Chamber's most successful fundraising event for the Scholarship Fund. Last year the Chamber awarded two $1\,000 business scholarships to area high school students\, an investment in our area's youth and the future of our business community. The scholarships are intended to encourage local students to pursue college interests that might impact area business. The Garden Walk Committee consists of Dorothy Miller of Lake Julian Trout Farm\, Neelie Kruse of Cary Travel Express\, Wendy Franz of R & W Construction Custom Home Remodeling\, Patsy Frits of Realty Executives on the Move\, and Kathie McLaughlin of American National Insurance.
X-ALT-DESC;FMTTYPE=text/html:<p class="MsoNormal" style="margin: 0in 0in 0pt"><font size="3" face="Times New Roman">The Chamber&rsquo\;s&nbsp\;Annual&nbsp\;Garden Walk is scheduled for Saturday\, July 17 from&nbsp\;2:30 to <st1:time hour="19" minute="0">7:00 p.m.</st1:time><span style="mso-spacerun: yes">&nbsp\;&nbsp\;</span>The event includes a tour of four area gardens\, and a progressive meal and wine tasting.<span style="mso-spacerun: yes">&nbsp\; </span>Tickets are $70 per person and include the wine tasting\, hors d&rsquo\;oeuvres\, dinner and transportation to each home.<span style="mso-spacerun: yes">&nbsp\; </span>Seating is limited\, so call the Chamber office at (847) 639-2800 to reserve your spot.&nbsp\;&nbsp\;&nbsp\; <strong>The Garden Walk will continue rain or shine.</strong></font></p><p class="MsoNormal" style="margin: 0in 0in 0pt"><o:p><font size="3" face="Times New Roman">&nbsp\;</font></o:p></p><div><span style="font-family: &quot\;Times New Roman&quot\;\; font-size: 12pt\; mso-fareast-font-family: &Atilde\;&cent\;&acirc\;?&not\;&acirc\;?&cent\;Times New Roman&Atilde\;&cent\;&acirc\;?&not\;&acirc\;?&cent\;\; mso-ansi-language: EN-US\; mso-fareast-language: EN-US\; mso-bidi-language: AR-SA"><div style="margin: 0in 0in 0pt"><font size="3">The Garden Walk is the Chamber&rsquo\;s most successful fundraising event for the Scholarship Fund. <font size="3">Last year the Chamber awarded two $1\,000&nbsp\;business scholarships to area high school students\, an investment in our area&rsquo\;s youth and the future of our business community.&nbsp\;The scholarships are intended to encourage local students to pursue college interests that might impact area business.</font></font></div><div style="margin: 0in 0in 0pt"><font size="3">&nbsp\;</font></div><div style="margin: 0in 0in 0pt"><font size="3">The Garden Walk Committee consists of <strong>Dorothy Miller</strong> of <strong>Lake Julian Trout Farm</strong>\, <strong>Neelie Kruse of Cary Travel Express</strong>\,&nbsp\;<strong>Wendy Franz of R &amp\; W Construction Custom Home Remodeling\, Patsy Frits of Realty Executives on the Move\, and Kathie McLaughlin of American National Insurance.&nbsp\;</strong></font></div><div style="margin: 0in 0in 0pt"><strong><font size="3">&nbsp\;</font></strong></div></span></div>
LOCATION:
UID:e.138.58
SEQUENCE:3
DTSTAMP:20260424T021346Z
URL:https://business.carygrovechamber.com/events/details/garden-walk-07-17-2010-58
END:VEVENT

END:VCALENDAR
