BEGIN:VCALENDAR
VERSION:2.0
PRODID:-//ChamberMaster//Event Calendar 2.0//EN
METHOD:PUBLISH
X-PUBLISHED-TTL:P3D
REFRESH-INTERVAL:P3D
CALSCALE:GREGORIAN
BEGIN:VEVENT
DTSTART:20080520T220000Z
DTEND:20080521T000000Z
X-MICROSOFT-CDO-ALLDAYEVENT:FALSE
SUMMARY:Gary Lang Auto Group Multi-Chamber Mixer
DESCRIPTION:Gary Lang Auto Group Multi-Chamber Mixer
X-ALT-DESC;FMTTYPE=text/html:<div><font size="4">Gary Lang Auto Group Multi-Chamber Mixer</font></div>
LOCATION:1107 South Route 31\, McHenry
UID:e.138.220
SEQUENCE:3
DTSTAMP:20260425T135048Z
URL:https://business.carygrovechamber.com/events/details/gary-lang-auto-group-multi-chamber-mixer-05-20-2008-220
END:VEVENT

END:VCALENDAR
