BEGIN:VCALENDAR
VERSION:2.0
PRODID:-//ChamberMaster//Event Calendar 2.0//EN
METHOD:PUBLISH
X-PUBLISHED-TTL:P3D
REFRESH-INTERVAL:P3D
CALSCALE:GREGORIAN
BEGIN:VEVENT
DTSTART;VALUE=DATE:20091014
DTEND;VALUE=DATE:20091015
TRANSP:TRANSPARENT
X-MICROSOFT-CDO-ALLDAYEVENT:TRUE
SUMMARY:Get Your Blue Hair Extension - CGHS Fundraiser!
DESCRIPTION:Show your Trojan spirit and get a blue hair extension to support the Cary Grove Boosters!  Come out on Wednesday\, October 14 from 5 to 9 p.m. in the Cary Grove High School cafeteria. Cost is $10.  Everyone is welcome.  Proceeds to benefit student activities at CGHS. Since 1991\, the Boosters have donated over $290\,000 to CGHS student activities.
X-ALT-DESC;FMTTYPE=text/html:<div><p class="MsoNormal" style="line-height: 14.4pt\; margin: 0in 0in 0pt"><span style="font-family: Arial\; color: black\; font-size: 11pt\; mso-bidi-font-size: 13.5pt\; mso-bidi-font-family: 'Times New Roman'">Show your Trojan spirit and get a blue hair extension to support the Cary Grove Boosters!&nbsp\; Come out on Wednesday\, October 14 from 5 to 9 p.m. in the <st1:place w:st="on"><st1:placename w:st="on">Cary</st1:placename> <st1:placetype w:st="on">Grove</st1:placetype> <st1:placetype w:st="on">High School</st1:placetype></st1:place> cafeteria. Cost is </span><span style="font-family: Arial\; color: black\; font-size: 11pt\; mso-bidi-font-size: 12.0pt\; mso-bidi-font-family: 'Times New Roman'">$10.<span style="mso-spacerun: yes">&nbsp\; </span>Everyone is welcome.<span style="mso-spacerun: yes">&nbsp\; </span></span><span style="font-family: Arial\; color: black\; font-size: 11pt\; mso-bidi-font-size: 13.5pt\; mso-bidi-font-family: 'Times New Roman'">Proceeds&nbsp\;to benefit student activities at CGHS.&nbsp\;Since 1991\, the&nbsp\;Boosters have donated over $290\,000 to CGHS student activities.&nbsp\;</span><span style="font-family: Arial\; color: black\; font-size: 11pt\; mso-bidi-font-size: 12.0pt\; mso-bidi-font-family: 'Times New Roman'"><o:p></o:p></span></p></div>
LOCATION:Cary Grove High School in the Cafeteriaon Three Oaks Road in Cary
UID:e.138.615
SEQUENCE:3
DTSTAMP:20260424T152833Z
URL:https://business.carygrovechamber.com/events/details/get-your-blue-hair-extension-cghs-fundraiser-10-14-2009-615
END:VEVENT

END:VCALENDAR
