BEGIN:VCALENDAR
VERSION:2.0
PRODID:-//ChamberMaster//Event Calendar 2.0//EN
METHOD:PUBLISH
X-PUBLISHED-TTL:P3D
REFRESH-INTERVAL:P3D
CALSCALE:GREGORIAN
BEGIN:VEVENT
DTSTART:20120306T230000Z
DTEND:20120307T010000Z
X-MICROSOFT-CDO-ALLDAYEVENT:FALSE
SUMMARY:GiGi's Playhouse McHenry First Multi Chamber Mixer
DESCRIPTION:Scott Perlman\n\nPresident\n\nMcHenry\, IL 60050 mchenrygigis@gmail.com\n\nPhone: 815-385-7529\n\nFax: 815-385-7538\n\nFOR IMMEDIATE RELEASE Contact: Jean Boyle\n\nTitle: Site Coordinator\n\nPhone: 815-385-7529\n\nFax: 815-385-7538\n\nemail: mchenrygigis@gmail.com\n\nGiGi's Playhouse McHenry\, Down Syndrome Awareness Center invites the community to come\, enjoy and learn.\n\nMCHENRY\, IL: GiGi's will host their first multi-chamber mixer with McHenry\, Crystal Lake\, and Cary Grove Chambers of Commerce on Tuesday\, March 6\, 2012 from 5-7pm. at GiGi's Playhouse\, 5404 W. Elm St.\, Suite A\, McHenry\, IL 60050. There will be great networking and door prizes while enjoying pizza\, compliments of Old Town Pizza Co. in McHenry.\n\nGiGi's Playhouse is a not for profit Down syndrome Awareness and education Center\, that offers activities\, resources\, and educational and therapeutic programs and support for individuals with Down syndrome\, their families and the community. All services are free for all of their families.\n\nThe Playhouse looks forward to welcoming and meeting the members of the business community. For additional information on the McHenry Playhouse\, please visit mchenry@gigisplayhouse.org.\n\neducate.inspire.achieve.\n\n####
X-ALT-DESC;FMTTYPE=text/html:Scott Perlman<br />\nPresident<br />\nMcHenry\, IL 60050 mchenrygigis@gmail.com<br />\nPhone: 815-385-7529<br />\nFax: 815-385-7538<br />\nFOR IMMEDIATE RELEASE Contact: Jean Boyle<br />\nTitle: Site Coordinator<br />\nPhone: 815-385-7529<br />\nFax: 815-385-7538<br />\nemail: mchenrygigis@gmail.com<br />\nGiGi&rsquo\;s Playhouse McHenry\, Down Syndrome Awareness Center invites the community to come\, enjoy and learn.<br />\nMCHENRY\, IL: GiGi&rsquo\;s will host their first multi-chamber mixer with McHenry\, Crystal Lake\, and Cary Grove Chambers of Commerce on Tuesday\, March 6\, 2012 from 5-7pm. at GiGi&rsquo\;s Playhouse\, 5404 W. Elm St.\, Suite A\, McHenry\, IL 60050. There will be great networking and door prizes while enjoying pizza\, compliments of Old Town Pizza Co. in McHenry.<br />\nGiGi&rsquo\;s Playhouse is a not for profit Down syndrome Awareness and education Center\, that offers activities\, resources\, and educational and therapeutic programs and support for individuals with Down syndrome\, their families and the community. All services are free for all of their families.<br />\nThe Playhouse looks forward to welcoming and meeting the members of the business community. For additional information on the McHenry Playhouse\, please visit mchenry@gigisplayhouse.org.<br />\neducate.inspire.achieve.<br />\n####
LOCATION:GiGi?s Playhouse\, 5404 W. Elm St.\, Suite A\, McHenry\, IL 60050
UID:e.138.3357
SEQUENCE:3
DTSTAMP:20260424T101131Z
URL:https://business.carygrovechamber.com/events/details/gigi-s-playhouse-mchenry-first-multi-chamber-mixer-03-06-2012-3357
END:VEVENT

END:VCALENDAR
