BEGIN:VCALENDAR
VERSION:2.0
PRODID:-//ChamberMaster//Event Calendar 2.0//EN
METHOD:PUBLISH
X-PUBLISHED-TTL:P3D
REFRESH-INTERVAL:P3D
CALSCALE:GREGORIAN
BEGIN:VEVENT
DTSTART;VALUE=DATE:20091022
DTEND;VALUE=DATE:20091023
TRANSP:TRANSPARENT
X-MICROSOFT-CDO-ALLDAYEVENT:TRUE
SUMMARY:''Girls Wanna Have Fun Night''
DESCRIPTION:Ladies...come out for "Girls Just Wanna Have Fun" Night on Thursday\, October 22 from 7:00 to 9:30 p.m. at the Crystal Lake Holiday Inn. This event sold out last year and was a huge hit! $20 ticket includes one drink ticket\, gourmet appetizers\, wine tasting from 7 to 8 p.m.\, door prizes all night\, comedian performance by Tim Walkoe and shopping with vendors!
X-ALT-DESC;FMTTYPE=text/html:<div>Ladies...come out for &quot\;Girls Just Wanna Have Fun&quot\; Night on Thursday\, October 22 from 7:00 to 9:30 p.m. at the Crystal Lake Holiday Inn. This event sold out last year and was a huge hit!</div><div>&nbsp\;</div><div>$20 ticket includes one drink ticket\, gourmet appetizers\, wine tasting from 7 to 8 p.m.\, door prizes all night\, comedian performance by Tim Walkoe and shopping with vendors!</div>
LOCATION:Crystal Lake Holiday Inn800 South Route 31 and Three Oaks Road in Cary
UID:e.138.530
SEQUENCE:3
DTSTAMP:20260424T141003Z
URL:https://business.carygrovechamber.com/events/details/girls-wanna-have-fun-night-10-22-2009-530
END:VEVENT

END:VCALENDAR
