BEGIN:VCALENDAR
VERSION:2.0
PRODID:-//ChamberMaster//Event Calendar 2.0//EN
METHOD:PUBLISH
X-PUBLISHED-TTL:P3D
REFRESH-INTERVAL:P3D
CALSCALE:GREGORIAN
BEGIN:VEVENT
DTSTART:20070619T000000Z
DTEND:20070619T013000Z
X-MICROSOFT-CDO-ALLDAYEVENT:FALSE
SUMMARY:Going Green at Home
DESCRIPTION:Green cleaning expert\, Mary Johnson\, SoySafe president\, will speak on choosing to be green\, safe and non-toxic in your home.  SoySafe makes products that are safe to use around children and pets and do not trigger allergic reactions.
X-ALT-DESC;FMTTYPE=text/html:Green cleaning expert\, Mary Johnson\, SoySafe president\, will speak on choosing to be green\, safe and non-toxic in your home.  SoySafe makes products that are safe to use around children and pets and do not trigger allergic reactions.
LOCATION:Open Door Illuminating Gifts\, 314 Northwest Highway\, Fox River Grove--Inside the School of Intuitive Arts & Sciences
UID:e.138.94
SEQUENCE:3
DTSTAMP:20260425T230257Z
URL:https://business.carygrovechamber.com/events/details/going-green-at-home-06-18-2007-94
END:VEVENT

END:VCALENDAR
