BEGIN:VCALENDAR
VERSION:2.0
PRODID:-//ChamberMaster//Event Calendar 2.0//EN
METHOD:PUBLISH
X-PUBLISHED-TTL:P3D
REFRESH-INTERVAL:P3D
CALSCALE:GREGORIAN
BEGIN:VEVENT
DTSTART:20091130T220000Z
DTEND:20091201T010000Z
X-MICROSOFT-CDO-ALLDAYEVENT:FALSE
SUMMARY:Gold Recycling and Holiday Shopping!
DESCRIPTION:Why? Where else could you bring home cash and\nGet all your Holiday shopping done?\nGo home with a check in your hand!\nWe have something for everyone!\nA Simple System ?\n~safe for kids and pets! ~inexpensive\n~ uses low-watt bulb ~over 90 safe scents\nNo flame\, soot\, smoke or lead to worry about!\nView the Online Catalog Now! www.Scentsy.com/CarissaB OR call for a Free Catalog 847-890-0343
X-ALT-DESC;FMTTYPE=text/html:Why? Where else could you bring home cash and\nGet all your Holiday shopping done?\nGo home with a check in your hand!\nWe have something for everyone!\nA Simple System ?\n~safe for kids and pets! ~inexpensive\n~ uses low-watt bulb ~over 90 safe scents\nNo flame\, soot\, smoke or lead to worry about!\nView the Online Catalog Now! www.Scentsy.com/CarissaB OR call for a Free Catalog 847-890-0343
LOCATION:The Cary Coffee Station
UID:e.138.629
SEQUENCE:3
DTSTAMP:20260424T141019Z
URL:https://business.carygrovechamber.com/events/details/gold-recycling-and-holiday-shopping-11-30-2009-629
END:VEVENT

END:VCALENDAR
