BEGIN:VCALENDAR
VERSION:2.0
PRODID:-//ChamberMaster//Event Calendar 2.0//EN
METHOD:PUBLISH
X-PUBLISHED-TTL:P3D
REFRESH-INTERVAL:P3D
CALSCALE:GREGORIAN
BEGIN:VEVENT
DTSTART;VALUE=DATE:20091205
DTEND;VALUE=DATE:20091206
TRANSP:TRANSPARENT
X-MICROSOFT-CDO-ALLDAYEVENT:TRUE
SUMMARY:Grand Opening - American Freestyle Martial Arts
DESCRIPTION:Join us for a Grand Opening Celebration at American Freestyle Martial Arts Team Jensen on Saturday\, December 5 from 10 a.m. to 2 p.m.  Come hang with them at their New location!  *    Multiple Master's Demos*    Kid's Demo's*    Raffle*    Food*    Award's Ceremony*    Food Drive for the Cary Grove Food Pantry  - accepting donations. American Freestyle Martial Arts is located behind Merlin's off of Feinberg Drive\, near Animal Doctor at 530 Northwest Hwy. in Cary. To reach them\, call (224) 532-7191
X-ALT-DESC;FMTTYPE=text/html:<div>Join us for a Grand Opening Celebration at American Freestyle Martial Arts Team Jensen on Saturday\, December 5 from 10 a.m. to 2 p.m.&nbsp\;</div><div>&nbsp\;</div><div>Come hang with them at their New location!&nbsp\;</div><div>&nbsp\;</div><div>*&nbsp\;&nbsp\;&nbsp\;&nbsp\;Multiple Master's Demos</div><div>*&nbsp\;&nbsp\;&nbsp\;&nbsp\;Kid's Demo's</div><div>*&nbsp\;&nbsp\;&nbsp\;&nbsp\;Raffle</div><div>*&nbsp\;&nbsp\;&nbsp\;&nbsp\;Food</div><div>*&nbsp\;&nbsp\;&nbsp\;&nbsp\;Award's Ceremony</div><div>*&nbsp\;&nbsp\;&nbsp\;&nbsp\;Food Drive for the Cary Grove Food Pantry&nbsp\; - accepting donations.</div><div>&nbsp\;</div><div>American Freestyle Martial Arts is located behind Merlin's off of Feinberg Drive\, near Animal Doctor at 530 Northwest Hwy. in Cary.</div><div>&nbsp\;</div><div>To reach them\, call (224) 532-7191</div>
LOCATION:American Freestyle Martial Arts is located behind Merlin's off of Feinberg Drive\, near Animal Doctor at 530 Northwest Hwy. in Cary.
UID:e.138.655
SEQUENCE:3
DTSTAMP:20260424T125847Z
URL:https://business.carygrovechamber.com/events/details/grand-opening-american-freestyle-martial-arts-12-05-2009-655
END:VEVENT

END:VCALENDAR
