BEGIN:VCALENDAR
VERSION:2.0
PRODID:-//ChamberMaster//Event Calendar 2.0//EN
METHOD:PUBLISH
X-PUBLISHED-TTL:P3D
REFRESH-INTERVAL:P3D
CALSCALE:GREGORIAN
BEGIN:VEVENT
DTSTART;VALUE=DATE:20100817
DTEND;VALUE=DATE:20100818
TRANSP:TRANSPARENT
X-MICROSOFT-CDO-ALLDAYEVENT:TRUE
SUMMARY:GRAND OPENING at Sio Garden Chinese Thai Restaurant!!
DESCRIPTION:COME AND CELEBRATE THE GRAND OPENING OF SIO GARDEN! (Formerly Green Garden - Under New Management and Staff).   Grand Opening on August 17!  Get 15% off any Lunch or Dinner Dine-in of $25.00 or more.   Sio Garden features cantonese\, hunan\, szechwan\, and mandarin cuisine and cocktails.  Dine-in\, carry-out and delivery available.  Restaurant hours are Monday through Thursday\, 11:30 a.m. to 9 p.m.\, Friday and Saturday\, 11:30 a.m. to 10 p.m. and Sunday\, 11:30 a.m. to 8:30 p.m.  They are located in the Stone Hill Shopping Center in Fox River Grove at 918 Route 22.  To reach them\, call (847) 462-9668.
X-ALT-DESC;FMTTYPE=text/html:<div><p class="MsoNormal" style="margin: 0in 0in 0pt"><font size="3"><span style="font-family: Calibri\; color: black">COME AND&nbsp\;CELEBRATE THE&nbsp\;GRAND&nbsp\;OPENING&nbsp\;OF&nbsp\;SIO&nbsp\;GARDEN! </span></font></p><p class="MsoNormal" style="margin: 0in 0in 0pt"><font size="3"><span style="font-family: Calibri\; color: black">(Formerly Green Garden - Under New Management and Staff).&nbsp\;&nbsp\;</span></font></p><p class="MsoNormal" style="margin: 0in 0in 0pt">&nbsp\;</p><p class="MsoNormal" style="margin: 0in 0in 0pt"><font size="3"><span style="font-family: Calibri\; color: black">Grand Opening on August 17!&nbsp\; Get </span><span style="font-family: Calibri">15% off any Lunch or Dinner Dine-in of $25.00 or more.&nbsp\;<span style="mso-spacerun: yes">&nbsp\;</span></span></font></p><p class="MsoNormal" style="margin: 0in 0in 0pt">&nbsp\;</p><p class="MsoNormal" style="margin: 0in 0in 0pt"><font size="3"><st1:place><st1:placename><span style="font-family: Calibri">Sio</span></st1:placename><span style="font-family: Calibri"> </span><st1:placetype><span style="font-family: Calibri">Garden</span></st1:placetype></st1:place><span style="font-family: Calibri"> features cantonese\, </span><st1:state><st1:place><span style="font-family: Calibri">hunan</span></st1:place></st1:state><span style="font-family: Calibri">\, szechwan\, and mandarin cuisine and cocktails.<span style="mso-spacerun: yes">&nbsp\; </span>Dine-in\, carry-out and delivery available.<span style="mso-spacerun: yes">&nbsp\; </span>Restaurant hours are Monday through Thursday\, </span><st1:time minute="30" hour="11"><span style="font-family: Calibri">11:30 a.m. to 9 p.m.</span></st1:time><span style="font-family: Calibri">\, Friday and Saturday\, </span><st1:time minute="30" hour="11"><span style="font-family: Calibri">11:30 a.m. to 10 p.m.</span></st1:time><span style="font-family: Calibri"> and Sunday\, </span><st1:time minute="30" hour="11"><span style="font-family: Calibri">11:30 a.m. to 8:30 p.m.</span></st1:time><span style="font-family: Calibri"><span style="mso-spacerun: yes">&nbsp\; </span>They are located in the </span><st1:place><st1:placename><span style="font-family: Calibri">Stone</span></st1:placename><span style="font-family: Calibri"> </span><st1:placetype><span style="font-family: Calibri">Hill</span></st1:placetype><span style="font-family: Calibri"> </span><st1:placetype><span style="font-family: Calibri">Shopping Center</span></st1:placetype></st1:place><span style="font-family: Calibri"> in Fox River Grove at 918 Route 22.<span style="mso-spacerun: yes">&nbsp\; </span></span><span style="font-family: Calibri\; mso-fareast-font-family: Batang">To reach them\, call (847) </span><span style="font-family: Calibri">462-9668.<span style="mso-spacerun: yes">&nbsp\; </span><o:p></o:p></span></font></p></div>
LOCATION:918 Route 22\, Fox RIver Grove\, IL 60021
UID:e.138.910
SEQUENCE:3
DTSTAMP:20260424T004303Z
URL:https://business.carygrovechamber.com/events/details/grand-opening-at-sio-garden-chinese-thai-restaurant-08-17-2010-910
END:VEVENT

END:VCALENDAR
