BEGIN:VCALENDAR
VERSION:2.0
PRODID:-//ChamberMaster//Event Calendar 2.0//EN
METHOD:PUBLISH
X-PUBLISHED-TTL:P3D
REFRESH-INTERVAL:P3D
CALSCALE:GREGORIAN
BEGIN:VEVENT
DTSTART;VALUE=DATE:20090618
DTEND;VALUE=DATE:20090619
TRANSP:TRANSPARENT
X-MICROSOFT-CDO-ALLDAYEVENT:TRUE
SUMMARY:Grand Opening Celebration - In Home Services
DESCRIPTION:You're invited to attend the Grand Opening of In Home Services in Fox River Grove.  You will be entertained by the Royale Polynesian Revue while enjoying our Polynesian cuisine.  There will be door prizes and drinks while showcasing some of the latest technologies in senior home care.  Join us on Thursday\, June 18 from 5 to 8 p.m. at 906 Rt. 22 in FRG on Ski Hill Road behind Tuesday Morning.
X-ALT-DESC;FMTTYPE=text/html:You're invited to attend the Grand Opening of In Home Services in Fox River Grove.  You will be entertained by the Royale Polynesian Revue while enjoying our Polynesian cuisine.  There will be door prizes and drinks while showcasing some of the latest technologies in senior home care.  Join us on Thursday\, June 18 from 5 to 8 p.m. at 906 Rt. 22 in FRG on Ski Hill Road behind Tuesday Morning.
LOCATION:906 Rt. 22 in Fox River Grove on Ski Hill Road behind Tuesday Morning
UID:e.138.475
SEQUENCE:3
DTSTAMP:20260424T203239Z
URL:https://business.carygrovechamber.com/events/details/grand-opening-celebration-in-home-services-06-18-2009-475
END:VEVENT

END:VCALENDAR
