BEGIN:VCALENDAR
VERSION:2.0
PRODID:-//ChamberMaster//Event Calendar 2.0//EN
METHOD:PUBLISH
X-PUBLISHED-TTL:P3D
REFRESH-INTERVAL:P3D
CALSCALE:GREGORIAN
BEGIN:VEVENT
DTSTART;VALUE=DATE:20090606
DTEND;VALUE=DATE:20090607
TRANSP:TRANSPARENT
X-MICROSOFT-CDO-ALLDAYEVENT:TRUE
SUMMARY:Grand Opening Celebration - Waysound Recording
DESCRIPTION:Come to the Grand Opening Celebration of Chicagoland's premier recording studio. Enjoy food\, music\, and fun as Waysound Recording opens its doors to musicians and businesses on June 6. With affordable rates and a comfortable atmosphere\, Waysound is a great place to start your next project!
X-ALT-DESC;FMTTYPE=text/html:Come to the Grand Opening Celebration of Chicagoland's premier recording studio. Enjoy food\, music\, and fun as Waysound Recording opens its doors to musicians and businesses on June 6. With affordable rates and a comfortable atmosphere\, Waysound is a great place to start your next project!\n\n
LOCATION:Waysound110 Northwest Hwy.Fox River Grove\, IL
UID:e.138.481
SEQUENCE:3
DTSTAMP:20260424T203231Z
URL:https://business.carygrovechamber.com/events/details/grand-opening-celebration-waysound-recording-06-06-2009-481
END:VEVENT

END:VCALENDAR
