BEGIN:VCALENDAR
VERSION:2.0
PRODID:-//ChamberMaster//Event Calendar 2.0//EN
METHOD:PUBLISH
X-PUBLISHED-TTL:P3D
REFRESH-INTERVAL:P3D
CALSCALE:GREGORIAN
BEGIN:VEVENT
DTSTART;VALUE=DATE:20091010
DTEND;VALUE=DATE:20091011
TRANSP:TRANSPARENT
X-MICROSOFT-CDO-ALLDAYEVENT:TRUE
SUMMARY:Grand Opening - Wild Automotive
DESCRIPTION:Come celebrate the Grand Opening of Wild Automotive on Saturday\, October 10 from 11 a.m. to 3 p.m. at 1005 Route 22 in Fox River Grove. Everyone is invited to this Open House Event!  There will be giveaways and raffles!  Free drinks and snacks! Coupon offers for oil change and brake jobs druing opening week Visit with Chicagoland Classic Car Club\, River Bend Benders and the MCCAP Foundation during this Grand Opening Celebration. For more information\, call Ken at 847-829-4239.
X-ALT-DESC;FMTTYPE=text/html:<div>Come celebrate the Grand Opening of Wild Automotive on Saturday\, October 10 from 11 a.m. to 3 p.m.&nbsp\;at&nbsp\;1005 Route 22 in Fox River Grove.</div><div>&nbsp\;</div><div>Everyone is invited to this Open House Event!&nbsp\; There will be giveaways and raffles!&nbsp\; Free drinks and snacks!</div><div>&nbsp\;</div><div>Coupon offers for oil change and brake jobs druing opening week</div><div>&nbsp\;</div><div>Visit with Chicagoland Classic Car Club\, River Bend Benders and the MCCAP Foundation during this Grand Opening Celebration.</div><div>&nbsp\;</div><div>For more information\, call Ken at 847-829-4239.</div><div>&nbsp\;</div><div>&nbsp\;</div><div>&nbsp\;</div><div>&nbsp\;</div>
LOCATION:Wild Automotive1005 Route 22 in Fox River Grove
UID:e.138.612
SEQUENCE:3
DTSTAMP:20260424T154430Z
URL:https://business.carygrovechamber.com/events/details/grand-opening-wild-automotive-10-10-2009-612
END:VEVENT

END:VCALENDAR
