BEGIN:VCALENDAR
VERSION:2.0
PRODID:-//ChamberMaster//Event Calendar 2.0//EN
METHOD:PUBLISH
X-PUBLISHED-TTL:P3D
REFRESH-INTERVAL:P3D
CALSCALE:GREGORIAN
BEGIN:VEVENT
DTSTART;VALUE=DATE:20090316
DTEND;VALUE=DATE:20090317
TRANSP:TRANSPARENT
X-MICROSOFT-CDO-ALLDAYEVENT:TRUE
SUMMARY:Grand Re-Opening Celebration at Cary Library
DESCRIPTION:You're invited to the Cary Area Public Library for a Grand Reopening Celebration on Sunday\, March 15 from 1 to 4 pm. There will be refreshments\, a magician for the kids and staff on hand to answer all your questions. Stop by to see their fresh\, new look. The walls sport new colors that coordinate with the new carpeting. The entryway features cork flooring and a vending cafe. Our circulation desk has been replaced with a newly designed one to better handle the ever-increasing volume of materials that pass over it. There's a new area for Young Adult materials and gaming items.
X-ALT-DESC;FMTTYPE=text/html:<div>You&rsquo\;re invited to the Cary Area Public Library for a Grand Reopening Celebration on Sunday\, March 15 from 1 to 4 pm. There will be refreshments\, a magician for the kids and staff on hand to answer all your questions. Stop by to see their fresh\, new look. The walls sport new colors that coordinate with the new carpeting. The entryway features cork flooring and a vending cafe. Our circulation desk has been replaced with a newly designed one to better handle the ever-increasing volume of materials that pass over it. There&rsquo\;s a new area for Young Adult materials and gaming items.</div>
LOCATION:Cary Area Public Library District1606 Three Oaks Rd. Cary\, IL
UID:e.138.415
SEQUENCE:3
DTSTAMP:20260425T004814Z
URL:https://business.carygrovechamber.com/events/details/grand-re-opening-celebration-at-cary-library-03-16-2009-415
END:VEVENT

END:VCALENDAR
