BEGIN:VCALENDAR
VERSION:2.0
PRODID:-//ChamberMaster//Event Calendar 2.0//EN
METHOD:PUBLISH
X-PUBLISHED-TTL:P3D
REFRESH-INTERVAL:P3D
CALSCALE:GREGORIAN
BEGIN:VEVENT
DTSTART;VALUE=DATE:20100201
DTEND;VALUE=DATE:20100208
TRANSP:TRANSPARENT
X-MICROSOFT-CDO-ALLDAYEVENT:TRUE
SUMMARY:Grand Re-Opening Events at On Angel's Wings Thrift Store
DESCRIPTION:In celebration of their Grand Re-Opening of the newly expanded thrift store and Grand Opening of their pet adoption center\, On Angels' Wings is hosting a variety of events for this special week: Thrift Store Grand Re-Opening Special Events include on Monday\, February 1\, $5 Pet Nail Trim by Dunkin' Dogs\, 10 a.m.   4 p.m.\; Tuesday\, February 2\, Multi-Chamber Mixer\, 5 to 7 p.m.\; Wednesday\, February 3\, $15 micro-chipping with Animal Control\, 1 to 3 p.m.\; Thursday\, February 4\, Ask the Pet Shrink\, Dr. Bob Andrysco\, 10 a.m. to 1 p.m.\; Friday\, February 5\, $5 Photo with your Pet by Cellar Studios\, 10 a.m. to 4 p.m. Pet Adoption Center Grand Opening Events include on Saturday\, February 6\, Live Broadcast by Star 105.5\, Wreaths for Wags Auction\; Pets in Need Available for Adoption\; Sunday\, February 7\, Superbowl of Savings\; Puppy Bowl\; Pets in Need Available for Adoption. On Angels Wing is located at 5186 Northwest Hwy. in Crystal Lake and can be reached at (815) 356-8170.
X-ALT-DESC;FMTTYPE=text/html:<div><div style="line-height: 14.4pt\; margin: 0in 0in 0pt"><span style="color: black\; font-size: 11pt">In celebration of their Grand Re-Opening of the newly expanded thrift store and Grand Opening of their pet adoption center\, <b>On Angels&rsquo\; Wings</b> is hosting a variety of events for this special week: <strong><i><span style="font-weight: normal">Thrift Store Grand Re-Opening Special Events</span></i></strong><strong><span style="font-weight: normal"> include</span></strong> on Monday\, February 1\, $5 Pet Nail Trim by Dunkin&rsquo\; Dogs\, 10 a.m. &ndash\; 4 p.m.\; Tuesday\, February 2\, Multi-Chamber Mixer\, 5 to 7 p.m.\; Wednesday\, February 3\, $15 micro-chipping with Animal Control\, 1 to 3 p.m.\; Thursday\, February 4\, Ask the Pet Shrink\, Dr. Bob Andrysco\, 10 a.m. to 1 p.m.\; Friday\, February 5\, $5 Photo with your Pet by Cellar Studios\, 10 a.m. to 4 p.m.&nbsp\;<strong><i><span style="font-weight: normal">Pet Adoption Center Grand Opening Events </span></i></strong><strong><span style="font-weight: normal">include on </span></strong>Saturday\, February 6\, Live Broadcast by Star 105.5\, Wreaths for Wags Auction\; Pets in Need Available for Adoption\; Sunday\, February 7\, Superbowl of Savings\; Puppy Bowl\; Pets in Need Available for Adoption.&nbsp\;On Angels Wing is located at </span><span style="color: black\; font-size: 11pt">5186 Northwest Hwy.</span><span style="color: black\; font-size: 11pt"> in </span><span style="color: black\; font-size: 11pt">Crystal Lake</span><span style="color: black\; font-size: 11pt"> and can be reached at (815) 356-8170.<br /><br /></span></div></div>
LOCATION:On Angel's Wings 5186 Northwest Hwy. in Crystal Lake
UID:e.138.714
SEQUENCE:3
DTSTAMP:20260424T102050Z
URL:https://business.carygrovechamber.com/events/details/grand-re-opening-events-at-on-angel-s-wings-thrift-store-02-01-2010-714
END:VEVENT

END:VCALENDAR
