BEGIN:VCALENDAR
VERSION:2.0
PRODID:-//ChamberMaster//Event Calendar 2.0//EN
METHOD:PUBLISH
X-PUBLISHED-TTL:P3D
REFRESH-INTERVAL:P3D
CALSCALE:GREGORIAN
BEGIN:VEVENT
DTSTART:20100416T000000Z
DTEND:20100416T013000Z
X-MICROSOFT-CDO-ALLDAYEVENT:FALSE
SUMMARY:Greener Lifestyle class with CLEANING SOLUTIONS
DESCRIPTION:Obtain information about making changes to live a cleaner\, healthier and greener lifestyle\; at the office\, in your home and within your community. This class does not discuss the political\, economic or global effects of going green. No prior knowledge or experience is needed to attend. Each attendee will receive a folder of information and reference materials pertaining to the class topic.
X-ALT-DESC;FMTTYPE=text/html:Obtain information about making changes to live a cleaner\, healthier and greener lifestyle\; at the office\, in your home and within your community. This class does not discuss the political\, economic or global effects of going green. No prior knowledge or experience is needed to attend. Each attendee will receive a folder of information and reference materials pertaining to the class topic.  
LOCATION:Cary Park District 255 Briargate Road Cary\, Illinois 60013
UID:e.138.666
SEQUENCE:3
DTSTAMP:20260424T094403Z
URL:https://business.carygrovechamber.com/events/details/greener-lifestyle-class-with-cleaning-solutions-04-15-2010-666
END:VEVENT

END:VCALENDAR
