BEGIN:VCALENDAR
VERSION:2.0
PRODID:-//ChamberMaster//Event Calendar 2.0//EN
METHOD:PUBLISH
X-PUBLISHED-TTL:P3D
REFRESH-INTERVAL:P3D
CALSCALE:GREGORIAN
BEGIN:VEVENT
DTSTART:20070405T140000Z
DTEND:20070405T160000Z
X-MICROSOFT-CDO-ALLDAYEVENT:FALSE
SUMMARY:Gross Receipts Tax Forum
DESCRIPTION:The Cary Grove\, Algonquin/LITH and Crystal Lake Chambers are hosting a Gross Receipts Tax Forum with speakers State Senator Pamela Althoff and State Representative Michael Tryon on Thursday morning\, April 5 from 9 to 11 a.m. at the McHenry County College Conference Center\, 8900 Northwest Highway in Crystal Lake  We encourage our members to attend and get educated on the new Gross Receipts Tax proposed by Governor Blagojevich and how it will affect you should it pass.  Don't miss this chance to voice your opinion!   Free refreshments will be served.
X-ALT-DESC;FMTTYPE=text/html:<p class="MsoNormal" style="MARGIN: 0in 0in 0pt"><font size="3"><font face="Times New Roman">The Cary Grove\, Algonquin/LITH and Crystal Lake Chambers are hosting a <strong style="mso-bidi-font-weight: normal">Gross Receipts Tax Forum </strong>with <st1:place><st1:placename>speakers</st1:placename> <st1:placetype>State</st1:placetype></st1:place> Senator <st1:personname>Pam</st1:personname>ela Althoff and State Representative Michael Tryon on <strong style="mso-bidi-font-weight: normal">Thursday morning\, April 5 from </strong><st1:time hour="9" minute="0"><strong style="mso-bidi-font-weight: normal">9</strong></st1:time><strong style="mso-bidi-font-weight: normal"> to </strong><st1:time hour="11" minute="0"><strong style="mso-bidi-font-weight: normal">11 a.m</strong>.</st1:time> at the McHenry County College Conference Center\, 8900 Northwest Highway in Crystal Lake<span style="mso-spacerun: yes">&nbsp\; </span>We encourage our members to attend and get educated on the new Gross Receipts Tax proposed by Governor Blagojevich and how it will affect you should it pass.<span style="mso-spacerun: yes">&nbsp\; </span>Don&rsquo\;t miss this chance to voice your opinion!&nbsp\;&nbsp\; Free refreshments will be served.</font></font></p>
LOCATION:McHenry County College Conference Center\, 8900 Northwest Hwy.\, Crystal Lake
UID:e.138.59
SEQUENCE:3
DTSTAMP:20260425T204010Z
URL:https://business.carygrovechamber.com/events/details/gross-receipts-tax-forum-04-05-2007-59
END:VEVENT

END:VCALENDAR
