BEGIN:VCALENDAR
VERSION:2.0
PRODID:-//ChamberMaster//Event Calendar 2.0//EN
METHOD:PUBLISH
X-PUBLISHED-TTL:P3D
REFRESH-INTERVAL:P3D
CALSCALE:GREGORIAN
BEGIN:VEVENT
DTSTART:20091101T010000Z
DTEND:20091101T180000Z
X-MICROSOFT-CDO-ALLDAYEVENT:FALSE
SUMMARY:Halloween at The Onion Pub & Brewery
DESCRIPTION:Halloween Costume Contest & Drink Specials
X-ALT-DESC;FMTTYPE=text/html:Halloween Costume Contest & Drink Specials 
LOCATION:Onion Pub & Brewery
UID:e.138.618
SEQUENCE:3
DTSTAMP:20260424T140842Z
URL:https://business.carygrovechamber.com/events/details/halloween-at-the-onion-pub-brewery-10-31-2009-618
END:VEVENT

END:VCALENDAR
