BEGIN:VCALENDAR
VERSION:2.0
PRODID:-//ChamberMaster//Event Calendar 2.0//EN
METHOD:PUBLISH
X-PUBLISHED-TTL:P3D
REFRESH-INTERVAL:P3D
CALSCALE:GREGORIAN
BEGIN:VEVENT
DTSTART:20071027T160000Z
DTEND:20071027T190000Z
X-MICROSOFT-CDO-ALLDAYEVENT:FALSE
SUMMARY:Halloween Walk
DESCRIPTION:Trick-or-Treat in Cary and Fox River Grove
X-ALT-DESC;FMTTYPE=text/html:<div><font size="3"><span lang="en-US" style="font-weight: bold\; font-size: 12pt\; language: en-US\; mso-ansi-language: en-US">Trick-or-Treat in Cary and Fox River Grove</span></font></div><p class="MsoNormal" style="mso-pagination: none"><span lang="en-US" style="language: en-US">&nbsp\;<o:p></o:p></span></p>
LOCATION:Cary 11 a.m. - 12 p.m. Downtown Cary Trick-or-Treat: Begins on Jandus Road at Magnificent Meals and continues down by the Coffee Station. Travel on Main Street to Orchard Prime Meats & cross at traffic light on High & Main Street. Then continue on the other side of the street to the businesses by Studio 218 Hair Design\, then head to Harris Bank and end at the Tracks. Do not park on West Main after 10:30 a.m. Vehicles will not be allowed to move between 10:30 a.m. and 12:30 p.m. The road will be closed for the event. Parking available in the Metra Parking Lots. FREE Parking North Commuter Lot Fox River Grove 1 - 2 p.m. Fox River Grove Trick-or-Treat Route: Begins at Leader ACE Hardware and continues through the shopping center ending at Merle Norman Cosmetics. For safety reasons\, the outer businesses along Route 14 are not on the route but we encourage those businesses to get a spot on the parade route to distribute candy. See map on back side.
UID:e.138.140
SEQUENCE:3
DTSTAMP:20260425T233109Z
URL:https://business.carygrovechamber.com/events/details/halloween-walk-10-27-2007-140
END:VEVENT

END:VCALENDAR
