BEGIN:VCALENDAR
VERSION:2.0
PRODID:-//ChamberMaster//Event Calendar 2.0//EN
METHOD:PUBLISH
X-PUBLISHED-TTL:P3D
REFRESH-INTERVAL:P3D
CALSCALE:GREGORIAN
BEGIN:VEVENT
DTSTART;VALUE=DATE:20120213
DTEND;VALUE=DATE:20120218
TRANSP:TRANSPARENT
X-MICROSOFT-CDO-ALLDAYEVENT:TRUE
SUMMARY:Have A Heart Fundraiser
DESCRIPTION:FOR IMMEDIATE RELEASE\n\nFebruary 10\, 2012\n\n\n\nPress Release\n\n\n\nStrelcheck Chiropractic Clinic Encourages Community To "Have a Heart"\n\n\n\nCrystal Lake\, February 10\, 2012   Strelcheck Chiropractic Clinic along with hundreds of chiropractic colleges\, offices and many other advocacy groups around the world are gaining momentum as they get ready to participate in Oklahaven's 2012 "Have-A-Heart Campaign\, to be held during Valentine's week\, February 13-17\, 2012.\n\n\n\n"We are excited to be a part of Oklahaven's 50th Anniversary in sharing their story of how they heal children through chiropractic care and a natural lifestyle\," said Dr. Daniel Strelcheck\, DC\, owner of Strelcheck Chiropractic Clinic. "We hope the community joins us in our educational and fundraising efforts to support this worthwhile cause."\n\n\n\nOklahaven Children's Chiropractic Center\, a non-profit organization located in Oklahoma\, has been specializing in the treatment of neurologically disorganized children since 1962\, thanks to the generosity of people who believe in a natural\, drug-free lifestyle for children. The center has never received state\, federal or United Way Funds.\n\n\n\nThroughout the week\, Strelcheck Chiropractic Clinic will be accepting donations and putting donors' names on specially designed die-cut hearts that will decorate the front reception area\, playing a moving DVD about the work done at Oklahaven\, and will be giving away a children's wellness basket to one lucky child.\n\n\n\n"We are excited to share with our patients and their children what Oklahaven stands for and our promise to help more children become healthy through chiropractic care\," said\n\nDr. Peter Norton\, DC.\, who practices at the clinic and is certified with the International Chiropractic Pediatric Association.\n\n\n\nTo learn more about Oklahaven Children's Chiropractic Center and the difference you can make in the lives of our children in the 2012 "Have-A-Heart" campaign\, please visit www.chiropractic4kids.com or contact Strelcheck Chiropractic at 815-459-3860 to make a donation directly through the clinic.
X-ALT-DESC;FMTTYPE=text/html:FOR IMMEDIATE RELEASE<br />\nFebruary 10\, 2012<br />\n<br />\nPress Release<br />\n<br />\nStrelcheck Chiropractic Clinic Encourages Community To &ldquo\;Have a Heart&rdquo\;<br />\n<br />\nCrystal Lake\, February 10\, 2012 &ndash\; Strelcheck Chiropractic Clinic along with hundreds of chiropractic colleges\, offices and many other advocacy groups around the world are gaining momentum as they get ready to participate in Oklahaven&rsquo\;s 2012 &ldquo\;Have-A-Heart Campaign\, to be held during Valentine&rsquo\;s week\, February 13-17\, 2012.<br />\n<br />\n&ldquo\;We are excited to be a part of Oklahaven&rsquo\;s 50th Anniversary in sharing their story of how they heal children through chiropractic care and a natural lifestyle\,&rdquo\; said Dr. Daniel Strelcheck\, DC\, owner of Strelcheck Chiropractic Clinic. &ldquo\;We hope the community joins us in our educational and fundraising efforts to support this worthwhile cause.&rdquo\;<br />\n<br />\nOklahaven Children&rsquo\;s Chiropractic Center\, a non-profit organization located in Oklahoma\, has been specializing in the treatment of neurologically disorganized children since 1962\, thanks to the generosity of people who believe in a natural\, drug-free lifestyle for children. The center has never received state\, federal or United Way Funds.<br />\n<br />\nThroughout the week\, Strelcheck Chiropractic Clinic will be accepting donations and putting donors&rsquo\; names on specially designed die-cut hearts that will decorate the front reception area\, playing a moving DVD about the work done at Oklahaven\, and will be giving away a children&rsquo\;s wellness basket to one lucky child.<br />\n<br />\n&ldquo\;We are excited to share with our patients and their children what Oklahaven stands for and our promise to help more children become healthy through chiropractic care\,&rdquo\; said<br />\nDr. Peter Norton\, DC.\, who practices at the clinic and is certified with the International Chiropractic Pediatric Association.<br />\n<br />\nTo learn more about Oklahaven Children&rsquo\;s Chiropractic Center and the difference you can make in the lives of our children in the 2012 &ldquo\;Have-A-Heart&rdquo\; campaign\, please visit www.chiropractic4kids.com or contact Strelcheck Chiropractic at 815-459-3860 to make a donation directly through the clinic.<br />\n
LOCATION:Strelcheck Chiropractic Clinic 10 N Virginia St Crystal Lake\, IL 60014
UID:e.138.3337
SEQUENCE:3
DTSTAMP:20260424T112830Z
URL:https://business.carygrovechamber.com/events/details/have-a-heart-fundraiser-02-13-2012-3337
END:VEVENT

END:VCALENDAR
