BEGIN:VCALENDAR
VERSION:2.0
PRODID:-//ChamberMaster//Event Calendar 2.0//EN
METHOD:PUBLISH
X-PUBLISHED-TTL:P3D
REFRESH-INTERVAL:P3D
CALSCALE:GREGORIAN
BEGIN:VEVENT
DTSTART;VALUE=DATE:20090430
DTEND;VALUE=DATE:20090501
TRANSP:TRANSPARENT
X-MICROSOFT-CDO-ALLDAYEVENT:TRUE
SUMMARY:Health Fair at Cardinal Fitness
DESCRIPTION:Cardinal Fitness of Cary is hosting a free health fair on Thursday\, April 30 from 4 to 8 p.m.  Vendors include Jimmy Johns of Cary\, Dolce Day Spa and more.  The public is welcome.  The club is offering a special joining fee during the health fair\, as well as nutritional advice\, spinal screenings\, massages and more.  Cardinal Fitness of Cary is located at 3106 Three Oaks Road in Cary.  For more information\, call (847) 516-7500.
X-ALT-DESC;FMTTYPE=text/html:Cardinal Fitness of Cary is hosting a free health fair on Thursday\, April 30 from 4 to 8 p.m.  Vendors include Jimmy Johns of Cary\, Dolce Day Spa and more.  The public is welcome.  The club is offering a special joining fee during the health fair\, as well as nutritional advice\, spinal screenings\, massages and more.  Cardinal Fitness of Cary is located at 3106 Three Oaks Road in Cary.  For more information\, call (847) 516-7500.
LOCATION:Cardinal Fitness 3106 Three Oaks Road Cary\, IL
UID:e.138.455
SEQUENCE:3
DTSTAMP:20260424T231553Z
URL:https://business.carygrovechamber.com/events/details/health-fair-at-cardinal-fitness-04-30-2009-455
END:VEVENT

END:VCALENDAR
