BEGIN:VCALENDAR
VERSION:2.0
PRODID:-//ChamberMaster//Event Calendar 2.0//EN
METHOD:PUBLISH
X-PUBLISHED-TTL:P3D
REFRESH-INTERVAL:P3D
CALSCALE:GREGORIAN
BEGIN:VEVENT
DTSTART:20071206T230000Z
DTEND:20071207T010000Z
X-MICROSOFT-CDO-ALLDAYEVENT:FALSE
SUMMARY:Heartland HomeCraft Holiday Happy Hour
DESCRIPTION:Please join us for a gathering of friends\, neighbors and colleagues!    Showcasing the design and craftsmanship of Heartland HomeCraft in a secluded 4\,000 square foot Saddle Oaks home on 1.7 acres
X-ALT-DESC;FMTTYPE=text/html:Please join us for a gathering of friends\, neighbors and colleagues!    Showcasing the design and craftsmanship of Heartland HomeCraft in a secluded 4\,000 square foot Saddle Oaks home on 1.7 acres
LOCATION:906 Bridle Lane\, Cary
UID:e.138.145
SEQUENCE:3
DTSTAMP:20260425T205407Z
URL:https://business.carygrovechamber.com/events/details/heartland-homecraft-holiday-happy-hour-12-06-2007-145
END:VEVENT

END:VCALENDAR
