BEGIN:VCALENDAR
VERSION:2.0
PRODID:-//ChamberMaster//Event Calendar 2.0//EN
METHOD:PUBLISH
X-PUBLISHED-TTL:P3D
REFRESH-INTERVAL:P3D
CALSCALE:GREGORIAN
BEGIN:VEVENT
DTSTART:20190809T163000Z
DTEND:20190809T180000Z
X-MICROSOFT-CDO-ALLDAYEVENT:FALSE
SUMMARY:Hemp is Hot - Growing\, Processing and Selling Industrial Hemp in Illinois
DESCRIPTION:Join us for a FREE educational session on growing\, processing and selling industrial Hemp in Illinois. Stacy McCaskill - owner of Hempstock Pharms in Woodstock - will talk about the nuances of the product\, the challenges in growing and processing the product and ultimately...selling the product.\n\n\n\nBring your lunch (drinks will be provided) and join us for this enlightening and informative session on the new and exciting agricultural opportunities in Illinois.
X-ALT-DESC;FMTTYPE=text/html:Join us for a FREE educational session on growing\, processing and selling industrial Hemp in Illinois. Stacy McCaskill - owner of Hempstock Pharms in Woodstock - will talk about the nuances of the product\, the challenges in growing and processing the product and ultimately...selling the product.<br />\n<br />\nBring your lunch (drinks will be provided) and join us for this enlightening and informative session on the new and exciting agricultural opportunities in Illinois.
LOCATION:McHenry County College Shah Center 4100 W. Shamrock Lane McHenry\, IL 60050
UID:e.138.10120
SEQUENCE:3
DTSTAMP:20260419T150739Z
URL:https://business.carygrovechamber.com/events/details/hemp-is-hot-growing-processing-and-selling-industrial-hemp-in-illinois-10120
END:VEVENT

END:VCALENDAR
