BEGIN:VCALENDAR
VERSION:2.0
PRODID:-//ChamberMaster//Event Calendar 2.0//EN
METHOD:PUBLISH
X-PUBLISHED-TTL:P3D
REFRESH-INTERVAL:P3D
CALSCALE:GREGORIAN
BEGIN:VEVENT
DTSTART:20190423T160000Z
DTEND:20190423T170000Z
X-MICROSOFT-CDO-ALLDAYEVENT:FALSE
SUMMARY:High Value Client Retention Strategies Webinar
DESCRIPTION:So you've attracted your perfect clients\, yay! Now how do you keep them happy--and happy to continue buying from you?\n\n\n\nHaving a great product or service isn't enough. Most of your clients will fall away\, unless you have specific strategies for keeping them.\n\n\n\nIn this class\, you will discover:\n\n\n\n - the top five strategies for lifetime client retention\n\n - how to pop your profits with current clients\n\n - the real reason your clients stop buying from you
X-ALT-DESC;FMTTYPE=text/html:So you&#39\;ve attracted your perfect clients\, yay! Now how do you keep them happy--and happy to continue buying from you?<br />\n<br />\nHaving a great product or service isn&#39\;t enough. Most of your clients will fall away\, unless you have specific strategies for keeping them.<br />\n<br />\nIn this class\, you will discover:<br />\n<br />\n&nbsp\;- the top five strategies for lifetime client retention<br />\n&nbsp\;- how to pop your profits with current clients<br />\n&nbsp\;- the real reason your clients stop buying from you
LOCATION:From the comfort and convenience of your own computer & phone
UID:e.138.9570
SEQUENCE:3
DTSTAMP:20260419T212433Z
URL:https://business.carygrovechamber.com/events/details/high-value-client-retention-strategies-webinar-9570
END:VEVENT

END:VCALENDAR
