BEGIN:VCALENDAR
VERSION:2.0
PRODID:-//ChamberMaster//Event Calendar 2.0//EN
METHOD:PUBLISH
X-PUBLISHED-TTL:P3D
REFRESH-INTERVAL:P3D
CALSCALE:GREGORIAN
BEGIN:VEVENT
DTSTART;VALUE=DATE:20071208
DTEND;VALUE=DATE:20071209
TRANSP:TRANSPARENT
X-MICROSOFT-CDO-ALLDAYEVENT:TRUE
SUMMARY:Holiday Benefit
DESCRIPTION:The Riverside Society Cordially Invites Youto a Holiday Benefit Saturday\, December 8from 5 to 8 p.m.at the home of Patsy Frits530 Holly Lynn Court\, Cary Enjoy champagne\, refreshments\, silent auction\, raffles and holiday shopping boutique $35 donation per person Proceeds benefit local charities: The Children's Center for Autism in Cary and Cary Community Christmas To purchase tickets\, call the Cary Grove Chamber office at (847) 639-2800. Advance reservations suggested. Some tickets may be available at the door. Holiday d cor provided by:Countryside Flower Shop\, Nursery & Garden Center  The Riverside Society is a group of women leaders dedicated to philanthropic giving in the Cary Grove area. It is affiliated with the Cary Grove Area Chamber of Commerce. If you cannot attend but would like to make a donation\, complete the form below\, print and fax to the Cary Grove Chamber at (847) 639-2168. Yes\, I would like to donate to the Holiday Benefit for the Children's Center for Autism and Cary Community Christmas. Donation amount $________   Name______________________________ Address_________________________________ Phone_____________ Visa MC (circle one) #_________________________________________ exp. ___________  Signature___________________________________ Or send checks payable to the Cary Grove Chamber\, 27 E. Main Street\, Cary\, IL 60013
X-ALT-DESC;FMTTYPE=text/html:<div style="margin: 0in 0in 0pt">&nbsp\;</div><div style="margin: 0in 0in 0pt" align="center"><em><font color="#339966" size="5">The Riverside Society</font></em></div><div style="margin: 0in 0in 0pt" align="center">&nbsp\;</div><div style="margin: 0in 0in 0pt" align="center"><em><font color="#339966" size="4">Cordially Invites You</font></em></div><div style="margin: 0in 0in 0pt" align="center"><em><font color="#339966" size="4">to a</font></em></div><div style="margin: 0in 0in 0pt" align="center">&nbsp\;</div><div style="margin: 0in 0in 0pt" align="center"><font size="5"><font color="#339966"><em>Holiday</em><em> Benefit</em></font></font></div><div style="margin: 0in 0in 0pt" align="center">&nbsp\;</div><div style="margin: 0in 0in 0pt" align="center"><em><font color="#339966" size="4">Saturday\, December 8</font></em></div><div style="margin: 0in 0in 0pt" align="center"><em><font color="#339966" size="4">from 5 to 8 p.m.</font></em></div><div style="margin: 0in 0in 0pt" align="center"><em><font color="#339966" size="4">at the home of Patsy Frits</font></em></div><div style="margin: 0in 0in 0pt" align="center"><font size="4"><font color="#339966"><em>530 Holly Lynn Court</em><em>\, Cary</em></font></font></div><div style="margin: 0in 0in 0pt" align="center"><font color="#339966" size="4">&nbsp\;</font></div><div style="margin: 0in 0in 0pt" align="center"><em><font color="#339966" size="4">Enjoy champagne\, refreshments\, silent auction\, </font></em></div><div style="margin: 0in 0in 0pt" align="center"><em><font color="#339966" size="4">raffles and holiday shopping boutique</font></em></div><div style="margin: 0in 0in 0pt" align="center"><font color="#339966" size="4">&nbsp\;</font></div><div style="margin: 0in 0in 0pt" align="center"><em><font color="#339966" size="4">$35 donation per person</font></em></div><div style="margin: 0in 0in 0pt" align="center"><font color="#339966" size="4">&nbsp\;</font></div><div style="margin: 0in 0in 0pt" align="center"><em><font color="#339966" size="4">Proceeds benefit local charities:</font></em></div><div style="margin: 0in 0in 0pt" align="center"><em><font color="#339966" size="4">&nbsp\;The Children&rsquo\;s Center for Autism in Cary</font></em></div><div style="margin: 0in 0in 0pt" align="center"><em><font color="#339966" size="4">&nbsp\;and Cary Community Christmas</font></em></div><div style="margin: 0in 0in 0pt" align="center"><font color="#339966" size="4">&nbsp\;</font></div><div style="margin: 0in 0in 0pt" align="center"><em><font color="#339966" size="4">To purchase tickets\, call the Cary Grove Chamber </font></em></div><div style="margin: 0in 0in 0pt" align="center"><em><font color="#339966" size="4">office at (847) 639-2800.&nbsp\;Advance reservations suggested.&nbsp\;</font></em></div><div style="margin: 0in 0in 0pt" align="center"><em><font color="#339966" size="4">Some tickets may be available at the door.</font></em></div><div style="margin: 0in 0in 0pt"><font color="#339966" size="4">&nbsp\;</font></div><div style="margin: 0in 0in 0pt" align="center"><em><font color="#339966" size="4">Holiday d&eacute\;cor provided by:</font></em></div><div style="margin: 0in 0in 0pt" align="center"><font color="#339966"><font size="4"><strong><em>Countryside&nbsp\;</em><em>Flower Shop\,</em><em>&nbsp\;</em></strong></font></font></div><div style="margin: 0in 0in 0pt" align="center"><font color="#339966"><font size="4"><strong><em>Nursery &amp\; Garden Center</em></strong></font></font></div><div style="margin: 0in 0in 0pt"><font color="#339966" size="4">&nbsp\;</font></div><div style="margin: 0in 0in 0pt" align="center"><font size="4">&nbsp\;</font></div><div style="margin: 0in 0in 0pt" align="center"><em><font size="4"><sub><strong>The Riverside Society is a group of women leaders dedicated</strong></sub></font></em></div><div style="margin: 0in 0in 0pt" align="center"><em><font size="4"><sub><strong>&nbsp\;to philanthropic giving in the Cary Grove area. It is affiliated </strong></sub></font></em></div><div style="margin: 0in 0in 0pt" align="center"><em><font size="4"><sub><strong>with the Cary Grove Area Chamber of Commerce.</strong></sub></font></em></div><div style="margin: 0in 0in 0pt" align="center"><font size="4">&nbsp\;</font></div><div style="margin: 0in 0in 0pt" align="center"><em><sub><strong><font size="5">If you cannot attend but would like to make a </font></strong></sub></em></div><div style="margin: 0in 0in 0pt" align="center"><em><sub><strong><font size="5">donation\, complete the form below\, </font></strong></sub></em></div><div style="margin: 0in 0in 0pt" align="center"><em><sub><strong><font size="5">print&nbsp\;</font></strong></sub></em><em><sub><strong><font size="5">and fax to the </font></strong></sub></em></div><div style="margin: 0in 0in 0pt" align="center"><em><sub><strong><font size="5">Cary Grove Chamber at (847) 639-2168.</font></strong></sub></em></div><div style="margin: 0in 0in 0pt" align="center">&nbsp\;</div><div style="margin: 0in 0in 0pt" align="center"><em><font color="#ff0000" size="4">Yes\, I would like to donate to the Holiday Benefit</font></em></div><div style="margin: 0in 0in 0pt" align="center"><em><font color="#ff0000" size="4">&nbsp\;</font></em><em><font color="#ff0000" size="4">for the&nbsp\;</font></em><em><font color="#ff0000" size="4">Children&rsquo\;s Center for Autism </font></em></div><div style="margin: 0in 0in 0pt" align="center"><em><font color="#ff0000" size="4">and Cary Community Christmas.</font></em></div><div style="margin: 0in 0in 0pt" align="center">&nbsp\;</div><div style="margin: 0in 0in 0pt" align="left"><em><font size="3">Donation amount $________&nbsp\;&nbsp\; Name______________________________</font></em></div><div style="margin: 0in 0in 0pt" align="left">&nbsp\;</div><div style="margin: 0in 0in 0pt" align="left"><em><font size="3">Address_________________________________ Phone_____________</font></em></div><div style="margin: 0in 0in 0pt" align="left">&nbsp\;</div><div style="margin: 0in 0in 0pt" align="left"><em><font size="3">Visa MC (circle one) #_________________________________________</font></em></div><div style="margin: 0in 0in 0pt" align="left">&nbsp\;</div><div style="margin: 0in 0in 0pt" align="left"><em><font size="3">exp. ___________&nbsp\; Signature___________________________________</font></em></div><div style="margin: 0in 0in 0pt" align="center"><em><font size="4">&nbsp\;</font></em></div><div style="margin: 0in 0in 0pt" align="center"><em><font size="3"><strong>Or send checks payable to the Cary Grove Chamber\, </strong></font></em></div><div style="margin: 0in 0in 0pt" align="center"><font size="3"><strong><em>27 E. Main </em><em>Street\, Cary\, IL 60013</em></strong></font></div>
LOCATION:Holiday Benefit Saturday\, December 8 The Home of Patsy Frits530 Holly Lynn CourtCary
UID:e.138.138
SEQUENCE:3
DTSTAMP:20260425T205102Z
URL:https://business.carygrovechamber.com/events/details/holiday-benefit-12-08-2007-138
END:VEVENT

END:VCALENDAR
