BEGIN:VCALENDAR
VERSION:2.0
PRODID:-//ChamberMaster//Event Calendar 2.0//EN
METHOD:PUBLISH
X-PUBLISHED-TTL:P3D
REFRESH-INTERVAL:P3D
CALSCALE:GREGORIAN
BEGIN:VEVENT
DTSTART;VALUE=DATE:20091205
DTEND;VALUE=DATE:20091207
TRANSP:TRANSPARENT
X-MICROSOFT-CDO-ALLDAYEVENT:TRUE
SUMMARY:Holiday Open House at Barn Nursery
DESCRIPTION:The Barn Nursery & Landscape Center is having a Holiday Open House this weekend\, December 5 and 6. Chamber Members take $5 off your Christmas tree purchase. Christmas trees start at $34.99. They carry many different sizes and varieties\, including Frasier Fir. They also have custom made winterscapes\, fresh wreaths\, berries\, greens and roping. Everything you need for a festive and fresh Christmas season. While you're there\, don't forget firewood\, they carry both Oak and Birch. The Barn Nursery is located at 8109 South Route 31 in Cary. To reach them\, call (847) 658-3883\, or visit www.barnnurserylandscape.com.
X-ALT-DESC;FMTTYPE=text/html:<div>The Barn Nursery &amp\; Landscape Center is having a Holiday Open House this weekend\, December 5 and 6. Chamber Members take $5 off your Christmas tree purchase. Christmas trees start at $34.99. They carry many different sizes and varieties\, including Frasier Fir. They also have custom made winterscapes\, fresh wreaths\, berries\, greens and roping. Everything you need for a festive and fresh Christmas season. While you're there\, don't forget firewood\, they carry both Oak and Birch. The Barn Nursery is located at 8109 South Route 31 in Cary. To reach them\, call (847) 658-3883\, or visit www.barnnurserylandscape.com.</div>
LOCATION:The Barn Nursery is located at 8109 South Route 31 in Cary
UID:e.138.650
SEQUENCE:3
DTSTAMP:20260424T124947Z
URL:https://business.carygrovechamber.com/events/details/holiday-open-house-at-barn-nursery-12-05-2009-650
END:VEVENT

END:VCALENDAR
