BEGIN:VCALENDAR
VERSION:2.0
PRODID:-//ChamberMaster//Event Calendar 2.0//EN
METHOD:PUBLISH
X-PUBLISHED-TTL:P3D
REFRESH-INTERVAL:P3D
CALSCALE:GREGORIAN
BEGIN:VEVENT
DTSTART;VALUE=DATE:20091210
DTEND;VALUE=DATE:20091211
TRANSP:TRANSPARENT
X-MICROSOFT-CDO-ALLDAYEVENT:TRUE
SUMMARY:Holiday Open House at Fox Point
DESCRIPTION:Fox Point Independent & Assisted Living / Fox Point Manor - Alzheimer's and Memory Care is hosting a Holiday Open House on Thursday\, December 10 from 4 to 7 p.m. at their facility\, 3300 Charles Miller Road in McHenry. Enjoy beautiful holiday decorations\, treats and beverages. Tour both their communities! To reach them\, call (815) 385-9840. Visit www.crlcares.com.
X-ALT-DESC;FMTTYPE=text/html:<div>Fox Point Independent &amp\; Assisted Living / Fox Point Manor - Alzheimer's and Memory Care is hosting a Holiday Open House on Thursday\, December 10 from 4 to 7 p.m. at their facility\, 3300 Charles Miller Road in McHenry. Enjoy beautiful holiday decorations\, treats and beverages. Tour both their communities! To reach them\, call (815) 385-9840. Visit www.crlcares.com.</div>
LOCATION:Fox Point Independent & Assisted Living / Fox Point Manor ? Alzheimer?s and Memory Care 3300 Charles Miller Road in McHenry.
UID:e.138.652
SEQUENCE:3
DTSTAMP:20260424T124809Z
URL:https://business.carygrovechamber.com/events/details/holiday-open-house-at-fox-point-12-10-2009-652
END:VEVENT

END:VCALENDAR
