BEGIN:VCALENDAR
VERSION:2.0
PRODID:-//ChamberMaster//Event Calendar 2.0//EN
METHOD:PUBLISH
X-PUBLISHED-TTL:P3D
REFRESH-INTERVAL:P3D
CALSCALE:GREGORIAN
BEGIN:VEVENT
DTSTART:20091128T170000Z
DTEND:20091128T220000Z
X-MICROSOFT-CDO-ALLDAYEVENT:FALSE
SUMMARY:Holiday Shopping Extravagana
DESCRIPTION:All of your shopping needs are waiting for you here!  Jewelry\, Candles\, Home Decorating\, Health and Beauty\, Clothing\, art\, and Much Much More!
X-ALT-DESC;FMTTYPE=text/html:All of your shopping needs are waiting for you here!  Jewelry\, Candles\, Home Decorating\, Health and Beauty\, Clothing\, art\, and Much Much More!
LOCATION:22221 N. Pepper Road\, Lake Barrington
UID:e.138.628
SEQUENCE:3
DTSTAMP:20260424T140252Z
URL:https://business.carygrovechamber.com/events/details/holiday-shopping-extravagana-11-28-2009-628
END:VEVENT

END:VCALENDAR
