BEGIN:VCALENDAR
VERSION:2.0
PRODID:-//ChamberMaster//Event Calendar 2.0//EN
METHOD:PUBLISH
X-PUBLISHED-TTL:P3D
REFRESH-INTERVAL:P3D
CALSCALE:GREGORIAN
BEGIN:VEVENT
DTSTART;VALUE=DATE:20071215
DTEND;VALUE=DATE:20071216
TRANSP:TRANSPARENT
X-MICROSOFT-CDO-ALLDAYEVENT:TRUE
SUMMARY:Holiday Shopping Open House
DESCRIPTION:Come see and taste ideas for your Holiday gift giving.  Chamber members from CAbi\, Tastefully Simple\, Arbonne and Herbalife and others will have many gift items ready to buy at this Holiday Open House Extravaganza. Refreshments\, discounts and door prizes will make for a fun day.  Bring a new pair of mittens or knit hat or unwrapped children's toy to donate and receive an extra raffle ticket.
X-ALT-DESC;FMTTYPE=text/html:Come see and taste ideas for your Holiday gift giving.  Chamber members from CAbi\, Tastefully Simple\, Arbonne and Herbalife and others will have many gift items ready to buy at this Holiday Open House Extravaganza. Refreshments\, discounts and door prizes will make for a fun day.  Bring a new pair of mittens or knit hat or unwrapped children's toy to donate and receive an extra raffle ticket.
LOCATION:43 Watergate Drive\, Barrington
UID:e.138.147
SEQUENCE:3
DTSTAMP:20260425T221444Z
URL:https://business.carygrovechamber.com/events/details/holiday-shopping-open-house-12-15-2007-147
END:VEVENT

END:VCALENDAR
