BEGIN:VCALENDAR
VERSION:2.0
PRODID:-//ChamberMaster//Event Calendar 2.0//EN
METHOD:PUBLISH
X-PUBLISHED-TTL:P3D
REFRESH-INTERVAL:P3D
CALSCALE:GREGORIAN
BEGIN:VEVENT
DTSTART;VALUE=DATE:20091212
DTEND;VALUE=DATE:20091213
TRANSP:TRANSPARENT
X-MICROSOFT-CDO-ALLDAYEVENT:TRUE
SUMMARY:Holiday Wine Tasting at Armanetti's
DESCRIPTION:Big Holiday Wine Tasting and Sale at Armanetti's on Saturday\, December 12 from 2 to 5 p.m.  Join us for this FREE tasting! Mix or Match 12 bottles and save 10% (non-sale items only).\n\n\n\nWe will be tasting over 20 different wines  from around the world. Here's a little taste of what we'll be pouring... \n\n?Ghost Pines Cabernet \n\n?Robert Mondavi Napa Cabernet \n\n?Ruffino Chianti Superior ?Mondavi Napa Pinot Noir \n\n?Franciscan Cabernet \n\n?Simi Chardonnay \n\n?Gascon Malbec \n\n?Martin Codax Albarino \n\n?Maso Canali Pinot Grigio \n\n?White Haven Sauvignon Blanc \n\n?Argyle Willamette Valley Chardonnay \n\n?Torres Red Wine \n\n?Villa Antinori Toscana ?Groth Napa Sauvignon Blanc ?Stonehaven Shiraz ?Yellow Tail Shiraz \n\n?Principato Pinot Noir \n\n?Hey Mambo Red ?Ruffino Lumina Pinot Grigio \n\n?Red Diamond Cabernet ?Estancia Cabernetand more!
X-ALT-DESC;FMTTYPE=text/html:Big Holiday Wine Tasting and Sale at Armanetti's on Saturday\, December 12 from 2 to 5 p.m.  Join us for this FREE tasting! Mix or Match 12 bottles and save 10% (non-sale items only).\n<br>\n<br>We will be tasting over 20 different wines  from around the world. Here's a little taste of what we'll be pouring... \n<br>?Ghost Pines Cabernet \n<br>?Robert Mondavi Napa Cabernet \n<br>?Ruffino Chianti Superior ?Mondavi Napa Pinot Noir \n<br>?Franciscan Cabernet \n<br>?Simi Chardonnay \n<br>?Gascon Malbec \n<br>?Martin Codax Albarino \n<br>?Maso Canali Pinot Grigio \n<br>?White Haven Sauvignon Blanc \n<br>?Argyle Willamette Valley Chardonnay \n<br>?Torres Red Wine \n<br>?Villa Antinori Toscana ?Groth Napa Sauvignon Blanc ?Stonehaven Shiraz ?Yellow Tail Shiraz \n<br>?Principato Pinot Noir \n<br>?Hey Mambo Red ?Ruffino Lumina Pinot Grigio \n<br>?Red Diamond Cabernet ?Estancia Cabernetand more! \n<br>
LOCATION:Armanetti\, 925 Route 22 in Fox River Grove
UID:e.138.667
SEQUENCE:3
DTSTAMP:20260424T124940Z
URL:https://business.carygrovechamber.com/events/details/holiday-wine-tasting-at-armanetti-s-12-12-2009-667
END:VEVENT

END:VCALENDAR
