BEGIN:VCALENDAR
VERSION:2.0
PRODID:-//ChamberMaster//Event Calendar 2.0//EN
METHOD:PUBLISH
X-PUBLISHED-TTL:P3D
REFRESH-INTERVAL:P3D
CALSCALE:GREGORIAN
BEGIN:VEVENT
DTSTART;VALUE=DATE:20090831
DTEND;VALUE=DATE:20090901
TRANSP:TRANSPARENT
X-MICROSOFT-CDO-ALLDAYEVENT:TRUE
SUMMARY:Home of the Sparrow Golf Outing
DESCRIPTION:Home of the Sparrow\, a transitional shelter program providing housing and supportive services for homeless women and their children in McHenry County\, is hosting our 4th annual golf outing on Monday\, August 31.  Please join us for a memorable day at the scenic and challenging Bull Valley Golf Club. You may register online at www.golfinvite.com/HOSGolf2009 or call us at (815) 444-1660.  Sponsorship opportunties are available.
X-ALT-DESC;FMTTYPE=text/html:<div>Home of the Sparrow\, a transitional shelter program providing housing and supportive services for homeless women and their children in McHenry County\, is hosting our 4th annual golf outing on Monday\, August 31.&nbsp\; Please join us for a memorable day at the scenic and challenging Bull Valley Golf Club. You may register online at <a href="http://www.golfinvite.com/HOSGolf2009">www.golfinvite.com/HOSGolf2009</a> or call us at (815) 444-1660.&nbsp\; Sponsorship opportunties are available.</div>
LOCATION:Bull Valley Golf Club
UID:e.138.479
SEQUENCE:3
DTSTAMP:20260424T180331Z
URL:https://business.carygrovechamber.com/events/details/home-of-the-sparrow-golf-outing-08-31-2009-479
END:VEVENT

END:VCALENDAR
