BEGIN:VCALENDAR
VERSION:2.0
PRODID:-//ChamberMaster//Event Calendar 2.0//EN
METHOD:PUBLISH
X-PUBLISHED-TTL:P3D
REFRESH-INTERVAL:P3D
CALSCALE:GREGORIAN
BEGIN:VEVENT
DTSTART:20070619T220000Z
DTEND:20070620T000000Z
X-MICROSOFT-CDO-ALLDAYEVENT:FALSE
SUMMARY:Home of the Sparrow\, Sparrow's Nest Mixer
DESCRIPTION:Home of the Sparrow\nSparrow's Nest Mixer
X-ALT-DESC;FMTTYPE=text/html:<font size="4">Home of the Sparrow<br />Sparrow's Nest Mixer</font>
LOCATION:380 Northwest Highway\, Cary (Shopping Center next to Cary Restaurant)
UID:e.138.88
SEQUENCE:3
DTSTAMP:20260425T231159Z
URL:https://business.carygrovechamber.com/events/details/home-of-the-sparrow-sparrow-s-nest-mixer-06-19-2007-88
END:VEVENT

END:VCALENDAR
