BEGIN:VCALENDAR
VERSION:2.0
PRODID:-//ChamberMaster//Event Calendar 2.0//EN
METHOD:PUBLISH
X-PUBLISHED-TTL:P3D
REFRESH-INTERVAL:P3D
CALSCALE:GREGORIAN
BEGIN:VEVENT
DTSTART;VALUE=DATE:20100227
DTEND;VALUE=DATE:20100228
TRANSP:TRANSPARENT
X-MICROSOFT-CDO-ALLDAYEVENT:TRUE
SUMMARY:Homeowners Free Information Session by Coldwell Banker Primus
DESCRIPTION:Join Holly Kelps and John Trandel of Coldwell Banker Primus for a free information seminar on Saturday\, February 27 at 2 p.m. at High Road Events\, located at 22 High Road in Cary. Several experts will be present and available to answer your questions on the following subjects: homeowner tax credit\; difference between a short sale and a foreclosure\; process and special terms for foreclosures\, information on loan modification\, and find out what the best action to take if you're struggling with mortgage payment. Light snacks will be served. To reserve your spot\, call Holly Kelps at (874) 542-9934 to RSVP. There will be a spanish speaking translator if needed.
X-ALT-DESC;FMTTYPE=text/html:<div><div style="line-height: 14.4pt\; margin: 0in 0in 0pt"><span style="color: black\; font-size: 11pt">Join <b>Holly Kelps and John Trandel of Coldwell Banker Primus</b> for a free information seminar on Saturday\, February 27 at </span><span style="color: black\; font-size: 11pt">2 p.m.</span><span style="color: black\; font-size: 11pt"> at <b>High Road Events</b>\, located at </span><span style="color: black\; font-size: 11pt">22 High Road</span><span style="color: black\; font-size: 11pt"> in </span><span style="color: black\; font-size: 11pt">Cary</span><span style="color: black\; font-size: 11pt">.&nbsp\;Several experts will be present and available to answer your questions on the following subjects: homeowner tax credit\; difference between a short sale and a foreclosure\; process and special terms for foreclosures\, information on loan modification\, and find out what the best action to take if you&rsquo\;re struggling with mortgage payment.&nbsp\;Light snacks will be served.&nbsp\;To reserve your spot\, call Holly Kelps at (874) 542-9934 to RSVP.&nbsp\;There will be a spanish speaking translator if needed.</span></div><div style="line-height: 14.4pt\; margin: 0in 0in 0pt">&nbsp\;</div></div>
LOCATION:High Road Events22 High Road in Cary
UID:e.138.726
SEQUENCE:3
DTSTAMP:20260424T102013Z
URL:https://business.carygrovechamber.com/events/details/homeowners-free-information-session-by-coldwell-banker-primus-02-27-2010-726
END:VEVENT

END:VCALENDAR
