BEGIN:VCALENDAR
VERSION:2.0
PRODID:-//ChamberMaster//Event Calendar 2.0//EN
METHOD:PUBLISH
X-PUBLISHED-TTL:P3D
REFRESH-INTERVAL:P3D
CALSCALE:GREGORIAN
BEGIN:VEVENT
DTSTART:20090616T233000Z
DTEND:20090617T010000Z
X-MICROSOFT-CDO-ALLDAYEVENT:FALSE
SUMMARY:How Heart Disease Presents Differently in Women than Men
DESCRIPTION:Researchers have learned that gender differences play an important role in the prevention\, diagnosis and treatment of heart disease.  Heart attack symptoms may present differently in women than in men.  Please join Michael Rosenberg\, M.D. with Midwest Heart Specialists as he will discuss the differences for both men and women.
X-ALT-DESC;FMTTYPE=text/html:Researchers have learned that gender differences play an important role in the prevention\, diagnosis and treatment of heart disease.  Heart attack symptoms may present differently in women than in men.  Please join Michael Rosenberg\, M.D. with Midwest Heart Specialists as he will discuss the differences for both men and women.
LOCATION:Advocate Good Shepherd Hospital Prairie Room 450 W. Highway 22 Barrington\, IL 60010
UID:e.138.418
SEQUENCE:3
DTSTAMP:20260424T192110Z
URL:https://business.carygrovechamber.com/events/details/how-heart-disease-presents-differently-in-women-than-men-06-16-2009-418
END:VEVENT

END:VCALENDAR
