BEGIN:VCALENDAR
VERSION:2.0
PRODID:-//ChamberMaster//Event Calendar 2.0//EN
METHOD:PUBLISH
X-PUBLISHED-TTL:P3D
REFRESH-INTERVAL:P3D
CALSCALE:GREGORIAN
BEGIN:VEVENT
DTSTART:20110517T233000Z
DTEND:20110518T010000Z
X-MICROSOFT-CDO-ALLDAYEVENT:FALSE
SUMMARY:How High Blood Pressure Affects Your Kidneys
DESCRIPTION:Tuesday\, May 17\, 2011\n\n6:30-8 pm\n\nAccording to the National Kidney Foundation about 65 million Americans have high blood pressure\, but as many as one third are undiagnosed.  More often it is high blood pressure that causes kidney disease.  Donald Cronin\, MD.\, board certified Nephrologist will discuss the importance of controlling high blood pressure to maintain good kidney function.  A light meal will be served!
X-ALT-DESC;FMTTYPE=text/html:Tuesday\, May 17\, 2011\n<br>6:30-8 pm\n<br>According to the National Kidney Foundation about 65 million Americans have high blood pressure\, but as many as one third are undiagnosed.  More often it is high blood pressure that causes kidney disease.  Donald Cronin\, MD.\, board certified Nephrologist will discuss the importance of controlling high blood pressure to maintain good kidney function.  A light meal will be served!
LOCATION:Advocate Good Shepherd Hospital 450 W. Highway 22\, Barrington IL
UID:e.138.2455
SEQUENCE:3
DTSTAMP:20260423T120940Z
URL:https://business.carygrovechamber.com/events/details/how-high-blood-pressure-affects-your-kidneys-05-17-2011-2455
END:VEVENT

END:VCALENDAR
