BEGIN:VCALENDAR
VERSION:2.0
PRODID:-//ChamberMaster//Event Calendar 2.0//EN
METHOD:PUBLISH
X-PUBLISHED-TTL:P3D
REFRESH-INTERVAL:P3D
CALSCALE:GREGORIAN
BEGIN:VEVENT
DTSTART:20080130T213000Z
DTEND:20080130T230000Z
X-MICROSOFT-CDO-ALLDAYEVENT:FALSE
SUMMARY:How To Get A Job Workshop
DESCRIPTION:Teens in grades 9th - 12th will receive helpful hints on how to put themselves ahead of other applicants when applying for a job. Learn how to complete a job application\, what to wear to an interview\, when to return phone calls\, and what questions to ask. This workshop is free\; pre-registration at the Cary Park District Community Center is required.
X-ALT-DESC;FMTTYPE=text/html:Teens in grades 9th - 12th will receive helpful hints on how to put themselves ahead of other applicants when applying for a job. Learn how to complete a job application\, what to wear to an interview\, when to return phone calls\, and what questions to ask. This workshop is free\; pre-registration at the Cary Park District Community Center is required.
LOCATION:Cary Park District Community Center\, 255 Briargate Road\, Cary
UID:e.138.196
SEQUENCE:3
DTSTAMP:20260425T205101Z
URL:https://business.carygrovechamber.com/events/details/how-to-get-a-job-workshop-01-30-2008-196
END:VEVENT

END:VCALENDAR
