BEGIN:VCALENDAR
VERSION:2.0
PRODID:-//ChamberMaster//Event Calendar 2.0//EN
METHOD:PUBLISH
X-PUBLISHED-TTL:P3D
REFRESH-INTERVAL:P3D
CALSCALE:GREGORIAN
BEGIN:VEVENT
DTSTART;VALUE=DATE:20080223
DTEND;VALUE=DATE:20080224
TRANSP:TRANSPARENT
X-MICROSOFT-CDO-ALLDAYEVENT:TRUE
SUMMARY:If You Give a Mouse a Cookie & Other Story Books
DESCRIPTION:Step right up for a sparkling revue comprised of several mini-musicals based on eight favorite children?s books: Amazing Grace\, Borreguita and the Coyote\, If You Give a Mouse a Cookie\, Imogene?s Antlers\, Martha Speaks\, Math Curse\, Master Man and Owen. The story line deals with relationships and breaking barriers of stereotyping. The play features diversity and meaningful lessons about growing up\, believing in yourself and the importance of relationships.
X-ALT-DESC;FMTTYPE=text/html:Step right up for a sparkling revue comprised of several mini-musicals based on eight favorite children?s books: Amazing Grace\, Borreguita and the Coyote\, If You Give a Mouse a Cookie\, Imogene?s Antlers\, Martha Speaks\, Math Curse\, Master Man and Owen. The story line deals with relationships and breaking barriers of stereotyping. The play features diversity and meaningful lessons about growing up\, believing in yourself and the importance of relationships.
LOCATION:Raue Center For The Arts 26 N. Williams Street Crystal Lake\, IL 60014
UID:e.138.162
SEQUENCE:3
DTSTAMP:20260425T193904Z
URL:https://business.carygrovechamber.com/events/details/if-you-give-a-mouse-a-cookie-other-story-books-02-23-2008-162
END:VEVENT

END:VCALENDAR
