BEGIN:VCALENDAR
VERSION:2.0
PRODID:-//ChamberMaster//Event Calendar 2.0//EN
METHOD:PUBLISH
X-PUBLISHED-TTL:P3D
REFRESH-INTERVAL:P3D
CALSCALE:GREGORIAN
BEGIN:VEVENT
DTSTART:20070424T220000Z
DTEND:20070425T000000Z
X-MICROSOFT-CDO-ALLDAYEVENT:FALSE
SUMMARY:Integrated Health Multi-Chamber Mixer
DESCRIPTION:Tuesday\, April 24            Integrated Health\, S.C. Multi-Chamber Mixer\n            1 S. Virginia Street\, Crystal Lake\n            5   7 p.m.
X-ALT-DESC;FMTTYPE=text/html:<p class="MsoNormal" style="MARGIN: 0in 0in 0pt"><font size="3"><font face="Times New Roman">Tuesday\, April 24<o:p></o:p></font></font></p><p class="MsoNormal" style="MARGIN: 0in 0in 0pt"><font size="3"><font face="Times New Roman"><span style="mso-tab-count: 1">&nbsp\;&nbsp\;&nbsp\;&nbsp\;&nbsp\;&nbsp\;&nbsp\;&nbsp\;&nbsp\;&nbsp\;&nbsp\; </span>Integrated Health\, S.C. Multi-Chamber Mixer<br /><span style="mso-tab-count: 1">&nbsp\;&nbsp\;&nbsp\;&nbsp\;&nbsp\;&nbsp\;&nbsp\;&nbsp\;&nbsp\;&nbsp\;&nbsp\; </span><st1:address><st1:street>1 S. Virginia Street</st1:street>\, <st1:city>Crystal Lake</st1:city></st1:address><br /><span style="mso-tab-count: 1">&nbsp\;&nbsp\;&nbsp\;&nbsp\;&nbsp\;&nbsp\;&nbsp\;&nbsp\;&nbsp\;&nbsp\;&nbsp\; </span><st1:time hour="17" minute="0">5 &ndash\; 7 p.m.</st1:time></font></font><o:p></o:p></p>
LOCATION:
UID:e.138.45
SEQUENCE:3
DTSTAMP:20260425T203034Z
URL:https://business.carygrovechamber.com/events/details/integrated-health-multi-chamber-mixer-04-24-2007-45
END:VEVENT

END:VCALENDAR
