BEGIN:VCALENDAR
VERSION:2.0
PRODID:-//ChamberMaster//Event Calendar 2.0//EN
METHOD:PUBLISH
X-PUBLISHED-TTL:P3D
REFRESH-INTERVAL:P3D
CALSCALE:GREGORIAN
BEGIN:VEVENT
DTSTART;VALUE=DATE:20090817
DTEND;VALUE=DATE:20090818
TRANSP:TRANSPARENT
X-MICROSOFT-CDO-ALLDAYEVENT:TRUE
SUMMARY:Internet Safety for Tweens and Teens
DESCRIPTION:Guidry Consulting presents a class\, "Internet Safety for Tweens and Teens" for ages 11 - adult\, through the Cary Park District on Monday\, August 17 from 11:00 to 1:00 p.m. at the Kraus Senior Center\, 441 W. Main Street in Cary.  Learn how teens can us the Internet safely.  For more information\, please visit Guidry Consulting at www.guidryconsulting.com/news.html or call Triona at (847) 540-5938. To register\, contact the Cary Park District\, (847) 639-6100
X-ALT-DESC;FMTTYPE=text/html:<div><div>Guidry Consulting presents a class\,&nbsp\;&quot\;Internet Safety for Tweens and Teens&quot\; for ages 11 - adult\, through the Cary Park District on Monday\,&nbsp\;August 17 from 11:00 to 1:00 p.m. at the Kraus Senior Center\,&nbsp\;441&nbsp\;W. Main Street in Cary.&nbsp\; Learn how teens can us the Internet safely.&nbsp\;&nbsp\;For more information\, please visit Guidry Consulting at www.guidryconsulting.com/news.html or call Triona at (847) 540-5938. To register\, contact the Cary Park District\, (847) 639-6100</div></div>
LOCATION:Kraus Senior Center441 W. Main Street in Cary
UID:e.138.518
SEQUENCE:3
DTSTAMP:20260424T180417Z
URL:https://business.carygrovechamber.com/events/details/internet-safety-for-tweens-and-teens-08-17-2009-518
END:VEVENT

END:VCALENDAR
