BEGIN:VCALENDAR
VERSION:2.0
PRODID:-//ChamberMaster//Event Calendar 2.0//EN
METHOD:PUBLISH
X-PUBLISHED-TTL:P3D
REFRESH-INTERVAL:P3D
CALSCALE:GREGORIAN
BEGIN:VEVENT
DTSTART;VALUE=DATE:20090725
DTEND;VALUE=DATE:20090726
TRANSP:TRANSPARENT
X-MICROSOFT-CDO-ALLDAYEVENT:TRUE
SUMMARY:Intuitive and Healing Arts Fair
DESCRIPTION:Join School of Intuitive Arts and Sciences for an Arts Fair on Saturday\, July 25 from 10 a.m. to 6 p.m. at 204 Spring Street in Cary on the lower level. This event is FREE with reduced fees for most services! Come learn about acupuncture\, chiropractic\, holistic products\, intuitive readers\, live blood cell analysis\, Phych-K\, Reiki and much more! To reach them\, call (847) 462-8951 or visit www.intuitiveschool.com.
X-ALT-DESC;FMTTYPE=text/html:<div>Join School of Intuitive Arts and Sciences for an Arts Fair on Saturday\, July 25 from 10 a.m. to 6 p.m. at 204 Spring Street in Cary on the lower level. This event is FREE with reduced fees for most services! Come learn about acupuncture\, chiropractic\, holistic products\, intuitive readers\, live blood cell analysis\, Phych-K\, Reiki and much more! To reach them\, call (847) 462-8951 or visit www.intuitiveschool.com.</div>
LOCATION:School of Intuitive Arts and Sciences204 Spring Street in CaryLower Level
UID:e.138.521
SEQUENCE:3
DTSTAMP:20260424T191841Z
URL:https://business.carygrovechamber.com/events/details/intuitive-and-healing-arts-fair-07-25-2009-521
END:VEVENT

END:VCALENDAR
