BEGIN:VCALENDAR
VERSION:2.0
PRODID:-//ChamberMaster//Event Calendar 2.0//EN
METHOD:PUBLISH
X-PUBLISHED-TTL:P3D
REFRESH-INTERVAL:P3D
CALSCALE:GREGORIAN
BEGIN:VEVENT
DTSTART;VALUE=DATE:20090113
DTEND;VALUE=DATE:20090114
TRANSP:TRANSPARENT
X-MICROSOFT-CDO-ALLDAYEVENT:TRUE
SUMMARY:It's All About Kids Chamber Mixer at Raue Center for the Arts
DESCRIPTION:It's All About Kids Chamber Mixer hosted by the Raue Center for the Arts on Tuesday\, January 13 from 5 to 7 p.m. All attendees are asked to bring a new hat for kids with cancer.  Enjoy refreshment and food!
X-ALT-DESC;FMTTYPE=text/html:It's All About Kids Chamber Mixer hosted by the Raue Center for the Arts on Tuesday\, January 13 from 5 to 7 p.m. All attendees are asked to bring a new hat for kids with cancer.  Enjoy refreshment and food!
LOCATION:Raue Center for the Arts26 N. Williams Street in Crystal Lake
UID:e.138.388
SEQUENCE:3
DTSTAMP:20260425T035956Z
URL:https://business.carygrovechamber.com/events/details/it-s-all-about-kids-chamber-mixer-at-raue-center-for-the-arts-01-13-2009-388
END:VEVENT

END:VCALENDAR
