BEGIN:VCALENDAR
VERSION:2.0
PRODID:-//ChamberMaster//Event Calendar 2.0//EN
METHOD:PUBLISH
X-PUBLISHED-TTL:P3D
REFRESH-INTERVAL:P3D
CALSCALE:GREGORIAN
BEGIN:VEVENT
DTSTART;VALUE=DATE:20100128
DTEND;VALUE=DATE:20100129
TRANSP:TRANSPARENT
X-MICROSOFT-CDO-ALLDAYEVENT:TRUE
SUMMARY:It's All About Kids Mixer
DESCRIPTION:Join us on Thursday\, January 28 for a multi-chamber mixer hosted by It's All About Kids from 5 to 7 p.m. at D'Andrea Banquets & Conference Center\, 4419 Northwest Hwy\, Crystal Lake. Appetizers will be served with a cash bar. Bring something to donate to their fundraiser event\, "Gala Dinner & Concert" on Sunday\, February 21 at the Holiday Inn Crystal Lake and you could win two free tickets to the Gala Dinner & Concert\, featuring the Chicago cast from the Jersey Boys. Donate the "Best Silent or Live Auction" item at the mixer that evening and you could win! They will also be selling tickets to their February 21 fundraiser for $125. It's All About Kids is a volunteer organization that raises money for McHenryCounty children with cancer and pediatric cancer research. For more information\, visit www.itsallaboutkids.info.
X-ALT-DESC;FMTTYPE=text/html:<div><div style="line-height: 14.4pt\; margin: 0in 0in 0pt"><span style="color: black\; font-size: 11pt">Join us on Thursday\, January 28 for a multi-chamber mixer hosted by <b>It's All About Kids</b> from </span><span style="color: black\; font-size: 11pt">5</span><span style="color: black\; font-size: 11pt"> to </span><span style="color: black\; font-size: 11pt">7 p.m.</span><span style="color: black\; font-size: 11pt"> at </span><b><span style="color: black\; font-size: 11pt">D&rsquo\;Andrea Banquets &amp\; Conference Center</span></b><span style="color: black\; font-size: 11pt">\, </span><span style="color: black\; font-size: 11pt">4419 Northwest Hwy</span><span style="color: black\; font-size: 11pt">\, </span><span style="color: black\; font-size: 11pt">Crystal Lake</span><span style="color: black\; font-size: 11pt">. Appetizers will be served with a cash bar.&nbsp\;Bring something to donate to their fundraiser event\, &ldquo\;G</span><span style="color: black\; font-size: 11pt">ala Dinner &amp\; Concert&rdquo\; </span><span style="color: black\; font-size: 11pt">on Sunday\, February 21 at the <b>Holiday Inn Crystal Lake</b> and you could win two free tickets to the Gala Dinner &amp\; Concert\, featuring the </span><span style="color: black\; font-size: 11pt">Chicago</span><span style="color: black\; font-size: 11pt"> cast from the Jersey Boys.&nbsp\;Donate the &ldquo\;Best Silent or Live Auction&rdquo\; item at the mixer that evening and you could win!&nbsp\;They will also be selling tickets to their February 21 fundraiser for $125. It&rsquo\;s All About Kids is a volunteer organization that raises money for </span><span style="color: black\; font-size: 11pt">McHenry</span><span style="color: black\; font-size: 11pt">County</span><span style="color: black\; font-size: 11pt"> children with cancer and pediatric cancer research.&nbsp\;For more information\, visit <a href="http://www.itsallaboutkids.info/">www.itsallaboutkids.info</a>.</span></div></div>
LOCATION:D'Andrea Banquets & Conference Center4419 Northwest Hwy\, Crystal Lake
UID:e.138.703
SEQUENCE:3
DTSTAMP:20260424T113007Z
URL:https://business.carygrovechamber.com/events/details/it-s-all-about-kids-mixer-01-28-2010-703
END:VEVENT

END:VCALENDAR
