BEGIN:VCALENDAR
VERSION:2.0
PRODID:-//ChamberMaster//Event Calendar 2.0//EN
METHOD:PUBLISH
X-PUBLISHED-TTL:P3D
REFRESH-INTERVAL:P3D
CALSCALE:GREGORIAN
BEGIN:VEVENT
DTSTART;VALUE=DATE:20080112
DTEND;VALUE=DATE:20080113
TRANSP:TRANSPARENT
X-MICROSOFT-CDO-ALLDAYEVENT:TRUE
SUMMARY:Jay Johnson: The Two and Only
DESCRIPTION:Jay Johnson is a 2007 Tony award winner! The critics rave! This is a feel-good family event for all ages. In his 30-year career\, Jay Johnson has converted generations of ventriloquist-avoiding Americans with his charm\, anarchy and innovative wit. Johnson\, star of the hit series SOAP\, takes the audience on a multi-dimensional journey that combines his skills with a parade of characters?from a subversive monkey to a withering tennis ball! Be sure to get your tickets to this show direct from Broadway.
X-ALT-DESC;FMTTYPE=text/html:Jay Johnson is a 2007 Tony award winner! The critics rave! This is a feel-good family event for all ages. In his 30-year career\, Jay Johnson has converted generations of ventriloquist-avoiding Americans with his charm\, anarchy and innovative wit. Johnson\, star of the hit series SOAP\, takes the audience on a multi-dimensional journey that combines his skills with a parade of characters?from a subversive monkey to a withering tennis ball! Be sure to get your tickets to this show direct from Broadway.
LOCATION:Raue Center For The Arts 26 N. Williams Street Crystal Lake\, IL 60014
UID:e.138.150
SEQUENCE:3
DTSTAMP:20260425T205101Z
URL:https://business.carygrovechamber.com/events/details/jay-johnson-the-two-and-only-01-12-2008-150
END:VEVENT

END:VCALENDAR
