BEGIN:VCALENDAR
VERSION:2.0
PRODID:-//ChamberMaster//Event Calendar 2.0//EN
METHOD:PUBLISH
X-PUBLISHED-TTL:P3D
REFRESH-INTERVAL:P3D
CALSCALE:GREGORIAN
BEGIN:VEVENT
DTSTART;VALUE=DATE:20080619
DTEND;VALUE=DATE:20080623
TRANSP:TRANSPARENT
X-MICROSOFT-CDO-ALLDAYEVENT:TRUE
SUMMARY:Jaycee Cary Days
DESCRIPTION:Jaycee Cary Days\, the only Summer Festival in Cary!  Live entertainment\, Carnival by Windy City Amusements\, Beer tent\, local food vendors\, and more!  Fireworks to be held on Sunday evening at dusk
X-ALT-DESC;FMTTYPE=text/html:Jaycee Cary Days\, the only Summer Festival in Cary!  Live entertainment\, Carnival by Windy City Amusements\, Beer tent\, local food vendors\, and more!  Fireworks to be held on Sunday evening at dusk
LOCATION:Lions Park\, Cary on Silver Lake Road
UID:e.138.232
SEQUENCE:3
DTSTAMP:20260425T134944Z
URL:https://business.carygrovechamber.com/events/details/jaycee-cary-days-06-19-2008-232
END:VEVENT

END:VCALENDAR
