BEGIN:VCALENDAR
VERSION:2.0
PRODID:-//ChamberMaster//Event Calendar 2.0//EN
METHOD:PUBLISH
X-PUBLISHED-TTL:P3D
REFRESH-INTERVAL:P3D
CALSCALE:GREGORIAN
BEGIN:VEVENT
DTSTART;VALUE=DATE:20090618
DTEND;VALUE=DATE:20090622
TRANSP:TRANSPARENT
X-MICROSOFT-CDO-ALLDAYEVENT:TRUE
SUMMARY:Jaycee Cary Days 2009
DESCRIPTION:Local Cary-Grove Festival at Lions Park on Silver Lake Road.  Come out to this fun event\, featuring carnival with rides\, live music every night\, a beer garden\, local food vendors and fireworks on Sunday at dusk!  Hours Thursday 6-10 p.m.Friday 6- MidnightSaturday Noon to MidnightSunday Noon to 11pm Wristbands will be on sale for Thursday night from 6 - 10 p.m. and Saturday from 9 a.m. to 4 p.m. This event is hosted by the Cary-Grove Jaycees and sponsored by many local businesses.  Visit http://carygrovejaycees.org/carydays/
X-ALT-DESC;FMTTYPE=text/html:<div><font size="4">Local Cary-Grove Festival at Lions Park on Silver Lake Road.&nbsp\; Come out to this fun event\, featuring&nbsp\;carnival with rides\, live music every night\, a beer garden\, local food vendors and fireworks on Sunday at dusk!&nbsp\;</font></div><div><font size="4">&nbsp\;</font></div><div><font size="4">Hours</font></div><div><font size="4">&nbsp\;</font></div><div><p class="MsoNormal" style="margin: 0in 0in 0pt"><font size="4">Thursday 6-10 p.m.</font></p><p class="MsoNormal" style="margin: 0in 0in 0pt"><font size="4">Friday 6- Midnight</font></p><p class="MsoNormal" style="margin: 0in 0in 0pt"><font size="4">Saturday Noon to Midnight</font></p><p class="MsoNormal" style="margin: 0in 0in 0pt"><font size="4">Sunday Noon to 11pm</font></p><div><font size="4">&nbsp\;</font></div><div><font size="4">Wristbands will be on sale for Thursday night from 6 - 10 p.m. and Saturday from 9 a.m. to 4 p.m. This event is hosted by the Cary-Grove Jaycees and sponsored by many local businesses.&nbsp\; Visit <span style="font-size: 12pt\; font-family: &quot\;Times New Roman&quot\;\,&quot\;serif&quot\;\; mso-fareast-font-family: Calibri\; mso-fareast-theme-font: minor-latin\; mso-ansi-language: EN-US\; mso-fareast-language: EN-US\; mso-bidi-language: AR-SA"><a href="http://carygrovejaycees.org/carydays/"><font face="Arial">http://carygrovejaycees.org/carydays/</font></a></span></font></div></div>
LOCATION:Lions Park in Caryon Silver Lake Road
UID:e.138.463
SEQUENCE:3
DTSTAMP:20260424T203205Z
URL:https://business.carygrovechamber.com/events/details/jaycee-cary-days-2009-06-18-2009-463
END:VEVENT

END:VCALENDAR
