BEGIN:VCALENDAR
VERSION:2.0
PRODID:-//ChamberMaster//Event Calendar 2.0//EN
METHOD:PUBLISH
X-PUBLISHED-TTL:P3D
REFRESH-INTERVAL:P3D
CALSCALE:GREGORIAN
BEGIN:VEVENT
DTSTART:20080614T140000Z
DTEND:20080614T180000Z
X-MICROSOFT-CDO-ALLDAYEVENT:FALSE
SUMMARY:Jaycees Little Fins Fishing Derby
DESCRIPTION:Free event for families!  Come fishing with the Cary-Grove Jaycees at Jaycee Park in Cary! Bring your fishing poles and chairs and spend some quality time with the kids!  Water will be available for sale at the event.
X-ALT-DESC;FMTTYPE=text/html:Free event for families!  Come fishing with the Cary-Grove Jaycees at Jaycee Park in Cary! Bring your fishing poles and chairs and spend some quality time with the kids!  Water will be available for sale at the event.
LOCATION:Jaycee Park\, Cary
UID:e.138.257
SEQUENCE:3
DTSTAMP:20260425T135212Z
URL:https://business.carygrovechamber.com/events/details/jaycees-little-fins-fishing-derby-06-14-2008-257
END:VEVENT

END:VCALENDAR
